BEGIN:VCALENDAR
VERSION:2.0
PRODID:-//St. Louis Chapter of the National Electrical Contractors Association - ECPv6.15.20//NONSGML v1.0//EN
CALSCALE:GREGORIAN
METHOD:PUBLISH
X-WR-CALNAME:St. Louis Chapter of the National Electrical Contractors Association
X-ORIGINAL-URL:https://stlneca.org
X-WR-CALDESC:Events for St. Louis Chapter of the National Electrical Contractors Association
REFRESH-INTERVAL;VALUE=DURATION:PT1H
X-Robots-Tag:noindex
X-PUBLISHED-TTL:PT1H
BEGIN:VTIMEZONE
TZID:America/Chicago
BEGIN:DAYLIGHT
TZOFFSETFROM:-0600
TZOFFSETTO:-0500
TZNAME:CDT
DTSTART:20240310T080000
END:DAYLIGHT
BEGIN:STANDARD
TZOFFSETFROM:-0500
TZOFFSETTO:-0600
TZNAME:CST
DTSTART:20241103T070000
END:STANDARD
BEGIN:DAYLIGHT
TZOFFSETFROM:-0600
TZOFFSETTO:-0500
TZNAME:CDT
DTSTART:20250309T080000
END:DAYLIGHT
BEGIN:STANDARD
TZOFFSETFROM:-0500
TZOFFSETTO:-0600
TZNAME:CST
DTSTART:20251102T070000
END:STANDARD
BEGIN:DAYLIGHT
TZOFFSETFROM:-0600
TZOFFSETTO:-0500
TZNAME:CDT
DTSTART:20260308T080000
END:DAYLIGHT
BEGIN:STANDARD
TZOFFSETFROM:-0500
TZOFFSETTO:-0600
TZNAME:CST
DTSTART:20261101T070000
END:STANDARD
END:VTIMEZONE
BEGIN:VEVENT
DTSTART;TZID=America/Chicago:20251211T170000
DTEND;TZID=America/Chicago:20251211T190000
DTSTAMP:20260423T174044
CREATED:20241218T031043Z
LAST-MODIFIED:20251206T223009Z
UID:1976-1765472400-1765479600@stlneca.org
SUMMARY:Central Missouri Division Holiday Dinner - CC's City Broiler
DESCRIPTION:ATTENDANCE LIST AS OF 12/03/25 \n\n\n\n\n\n\nCoastal\nDennis Palmer\n\n\n\nNancy Palmer\n\n\nAEC Inspire\nAdam Ketterer\n\n\nJeffries Electrical\nPaul Jeffries\n\n\n\nDee Jeffries\n\n\n\nAmity Jeffries\n\n\n\nDarryl Jeffries\n\n\nKaiser Electric of Central Missouri\nTJ Ballew\n\n\n\nCole Lodge\n\n\n\nMark Baxter\n\n\n\nRicky Clark\n\n\n\nBrian Buschjost\n\n\nMeyer Electric\nLeon Keller\n\n\n\nMarilyn Keller\n\n\n\nVicky Johnson\n\n\n\nDave Johnson\n\n\n\nChris Roberts\n\n\n\nAngie Roberts\n\n\nMizzou Student Chapter\nDr. Joel Poor\n\n\n\nKelly Poor\n\n\nMizzou Student Chapter – Pres\nArmani Emery\n\n\nMizzou Student Chapter – Secratary\nTyson Murphy\n\n\nMizzou Student Chapter – Treasurer\nTiara Arzola\n\n\nMizzou Student Chapter – VP\nBenjamin Atterberry\n\n\nMizzou Student Chapter – EBA\nNathan DeGuentz\n\n\nNational Safety Consulting\nDakota Riddle\n\n\n\nEmily Riddle\n\n\nP&D ELECTRIC INC\nDeborah Thornburg\n\n\n\nJereme Mastin\n\n\nPrimary Systems\nSteve Potts\n\n\n\nChristina Potts\n\n\nSchneider Electric\nJake Massman\n\n\n\nJustin Harker\n\n\n\nAmy Harker\n\n\n\nJesse Farris\n\n\n\nAngela Farris\n\n\nSTL NECA\nKyle McKenna\n\n\n\nCortney McKenna\n\n\n\nKaren O’Fallon\n\n\n\n \n  \n\n\n                \n                        \n                            RSVP Now - Central Missouri Division Holiday Party 2025\n                             \n                        \n                        InstagramThis field is for validation purposes and should be left unchanged.Your Company:*Your Name:*Your Email:*\n                            \n                        Will you attend?*\n			\n				\n				Yes\n			\n			\n				\n				No\n			Would you like to register additional team members or guests?*\n			\n				\n				Yes\n			\n			\n				\n				No\n			Guest 1 Company:Guest 1 Name:Guest 1 Email:\n                            \n                        Guest 2 Company:Guest 2 Name:Guest 2 Email:\n                            \n                        Guest 3 Company:Guest 3 Name:Guest 3 Email:\n                            \n                        \n          \n            \n            \n            \n            \n            \n            \n            \n            \n            \n            \n            \n            \n            \n        \n                        \n                        \n\n 
URL:https://stlneca.org/event/central-missouri-division-holiday-dinner-ccs-city-broiler/
LOCATION:CC’s City Broiler\, 1401 Forum Blvd.\, Columbia\, MO\, 65203\, United States
END:VEVENT
BEGIN:VEVENT
DTSTART;TZID=America/Chicago:20251204T153000
DTEND;TZID=America/Chicago:20251204T180000
DTSTAMP:20260423T174044
CREATED:20241218T025755Z
LAST-MODIFIED:20251203T195803Z
UID:1967-1764862200-1764871200@stlneca.org
SUMMARY:Industry Holiday Happy Hour | Westport Social
DESCRIPTION:RSVP NOW - Industry Holiday Happy Hour | Westport Social\n                             \n							"*" indicates required fields \n                        \n                        CommentsThis field is for validation purposes and should be left unchanged.Company:*Name:*Email:*\n                            \n                        Will you attend?*\n			\n					\n					Yes\n			\n			\n					\n					No\n			Would you like to register additional key employees or a spouse/guest?*\n			\n					\n					Yes\n			\n			\n					\n					No\n			Guest First and Last NameGuest First and Last NameGuest First and Last NameGuest First and Last NameGuest First and Last NameGuest First and Last NameGuest First and Last NameGuest First and Last NameGuest First and Last NameQuestions or Comments?\n          \n            \n            \n            \n            \n            \n            \n            \n            \n            \n            \n            \n            \n            \n        \n                        \n                        \n\nJoin us for a relaxing way to kick off the holidays. Enjoy an afternoon of drinks\, food and fun giveaways. Please share this invite with key employees\, office staff\, spouses\, friends and anyone who would like to CHEERS to a day of play! \n3:30 – 6pm \nWestport Social: Private Event Space \n \nATTENDANCE LIST AS OF 12/03/2025 \n\n\n\n\n\n\n\nADL Communications\, LLC\nLonnie Somers\nCindy Somers\n\n\nADL Communications\, LLC\nBrandon Vatterott\nAlyssa Vatterott\n\n\nAmerican Electric & Data\nTom Prade\nVenessa Van Schalkwyk\n\n\nAmerican Electric & Data\nLogan Bardenheier\n\n\n\nAmerican Electric & Data\nJohn Bardenheier\n\n\n\nArchKey Solutions/Sachs Electric\nJoe Barnard\n\n\n\nArchKey Solutions/Sachs Electric\nJesse Thurber\n\n\n\nArchKey Solutions/Sachs Electric\nJanice Maitland\nDavid Maitland\n\n\nArchKey Solutions/Sachs Electric\nTim Culleton\n\n\n\nAuthorized Electric\nTom Broderick\nKaren Broderick\n\n\nBell Electrical Contractors\nJerry Dorhauer\, sr.\n\n\n\nD & R Building Group\nLeonard Adewunmi\n\n\n\nD & R Building Group\nBrandon Beck\n\n\n\nGraybar\nBrian Berninger\n\n\n\nGuarantee Electrical Company\nEmily Martin\n\n\n\nGuarantee Electrical Company\nDave Gralike\nGrant Gralike\n\n\nHanenkamp\nMel Snyder\n\n\n\nHonorary Member\nDennis Hornberger\n\n\n\nJ Bathe Electric\nBradley Bathe\n\n\n\nJ. Bathe Electric\nDan Mayberry\nRachel Mayberry\n\n\nJ. Bathe Electric\nMelanie Ilgenfritz\n\n\n\nJF Electric\nChad D. Boeving\nDiana Boeving\n\n\nJF Electric\nLes Benton\nAmy Benton\n\n\nJ West\nSabrina Westfall\n\n\n\nKaiser Electric\, Inc.\nBryan Truemper\n\n\n\nKaiser Electric\, Inc.\nKatie Folk\n\n\n\nKaiser Electric\, Inc.\nDennis L Harter\n\n\n\nKay Bee Electric\nKevin Renaud\nDiane Renaud\n\n\nKay Bee Electric\nChad Scheidegger\n\n\n\nKay Bee Electric\nPaul Kohnen\nMegan Kohnen\n\n\nMR Systems\nNathan Burkemper\n\n\n\nNational Safety Consulting\nDakota Riddle\nEmily Riddle\n\n\nNetCom\, Inc.\nAndy Baker\n\n\n\nPaynecrest Electric and Communications\nJoe Wilmes\n\n\n\nPrimary Systems\, Inc.\nSteven Potts\n\n\n\nQualSafe Solutions\nPaige A Brogan\n\n\n\nRetired Member\nTerry Brogan\nDebbie Brogan\n\n\nSchaeffer Electric\nJustin Kohlman\n\n\n\nSchaeffer Electric\nKenny Bassler\n\n\n\nSchaeffer Electric\nMike Lucas\n\n\n\nSchaeffer Electric\nBrian Wetteroff\nErin Wetteroff\n\n\nSt. Louis Electrical Connection\nSylvester Taylor\nErnestine Taylor\n\n\nSt. Louis Electrical Connection\nTimothy Green\n\n\n\nTD4 Electrical\nKyle Harte\nScott Duruntz\n\n\nTD4 Electrical\nChuck Wrigley\n\n\n\nTristar\nJason Schepis\nJulie Wood\n\n\nVeteran Member\nBob Senf\nNancy Senf\n\n\nVision Electric & Systems\nWalter Sickels\nBecky Austermann\n\n\nVision Electric & Systems\nBrian Womack\nJennifer Baker
URL:https://stlneca.org/event/industry-holiday-happy-hour-westport-social/
LOCATION:Westport Social\, 910 Westport Plaza\, St. Louis\, MO\, 63146\, United States
ORGANIZER;CN="Karen O'Fallon":MAILTO:karen@stlneca.org
END:VEVENT
BEGIN:VEVENT
DTSTART;TZID=America/Chicago:20251124T163000
DTEND;TZID=America/Chicago:20251124T190000
DTSTAMP:20260423T174044
CREATED:20251115T151107Z
LAST-MODIFIED:20251124T184003Z
UID:2354-1764001800-1764010800@stlneca.org
SUMMARY:MO VDV/S Ratification Meeting
DESCRIPTION:RSVP Now - MO VDV/S MEETING\n                             \n                        \n                        LinkedInThis field is for validation purposes and should be left unchanged.Your Company:*Your Name:*Your Email:*\n                            \n                        Will you attend?*\n			\n				\n				Yes\n			\n			\n				\n				No\n			Entree selections will be made when you arrive to Fleming's. Would you like to register additional team members?*\n			\n				\n				Yes\n			\n			\n				\n				No\n			Guest 1 Name:Guest 1 Email:\n                            \n                        Guest 2 Name:Guest 2 Email:\n                            \n                        \n          \n            \n            \n            \n            \n            \n            \n            \n            \n            \n            \n            \n            \n            \n        \n                        \n                        \n\nATTENDANCE LIST AS OF 11/24/25 \n\n\n\n\n\n\nADL Communications\, LLC\nLonnie Somers\n\n\nAmerican Electric\nTom Prade\n\n\nArchkey / Sachs\nKris Anthony Huels\n\n\nColtrane\nRick Coltrane\n\n\nGuarantee Electrical\nDave Gralike\n\n\nGuarantee Electrical Construction\nMike Hoefler\n\n\nJF Electric\nChad Boeving\n\n\nKaemmerlen\nBob Kaemmerlen\n\n\nKaiser Electric\, Inc.\nDennis L Harter\n\n\nKaiser Electric\, Inc.\nKatie Folk\n\n\nKayBee\nPaul Kohnen\n\n\nKayBee\nChad Scheidegger\n\n\nNetCom\, Inc.\nRick Baker\n\n\nNetCom\, Inc.\nMatt Doell\n\n\nPaynecrest\nGreg Walker\n\n\nPrimary\nSteve Potts\n\n\nSchaeffer\nJustin Kohlman\n\n\nSchaeffer\nGage Lechner
URL:https://stlneca.org/event/mo-vdv-s-meeting/
LOCATION:Flemings Prime Steakhouse & Wine Bar\, 1855 South Lindbergh Blvd\, St. Louis\, Missouri\, 63131-3502
ORGANIZER;CN="Karen O'Fallon":MAILTO:karen@stlneca.org
END:VEVENT
BEGIN:VEVENT
DTSTART;TZID=America/Chicago:20251119T170000
DTEND;TZID=America/Chicago:20251119T190000
DTSTAMP:20260423T174044
CREATED:20251104T153635Z
LAST-MODIFIED:20251104T153635Z
UID:2347-1763571600-1763578800@stlneca.org
SUMMARY:Central Missouri Division Membership Meeting 11/19
DESCRIPTION:RSVP Now - Central Missouri Division Membership Meeting 11/19\n                             \n							"*" indicates required fields \n                        \n                        CommentsThis field is for validation purposes and should be left unchanged.Your Company:*Your Name:*Your Email:*\n                            \n                        Will you attend?*\n			\n					\n					Yes\n			\n			\n					\n					No\n			Would you like to register additional team members?*\n			\n					\n					Yes\n			\n			\n					\n					No\n			Guest 1 Company:Guest 1 Name:Guest 1 Email:\n                            \n                        Guest 2 Company:Guest 2 Name:Guest 2 Email:
URL:https://stlneca.org/event/central-missouri-division-membership-meeting-11-19/
LOCATION:Meadow Lakes Country Club\, 2600 Meadow Lake Drive\, New Bloomfield\, MO\, 65063\, United States
ORGANIZER;CN="Karen O'Fallon":MAILTO:karen@stlneca.org
END:VEVENT
BEGIN:VEVENT
DTSTART;TZID=America/Chicago:20251104T163000
DTEND;TZID=America/Chicago:20251104T193000
DTSTAMP:20260423T174044
CREATED:20250617T144601Z
LAST-MODIFIED:20251010T142301Z
UID:2185-1762273800-1762284600@stlneca.org
SUMMARY:Membership Meeting - Make the Most of Your Membership | Sunset Event Space by Twisted Tree
DESCRIPTION:Make the Most of Your Membership – November 4\, 2025 \nSunset Event Space by Twisted Tree (Holiday Inn – Route 66) \n4:30 pm Open Bar \n5:00 pm Presentations Begin \n6:00 pm Dinner \n6:30 pm Blues Tickets Giveaway!!! \nThis event is designed to help NECA contractors better understand and take full advantage of the resources available through their membership. \nWhat to Expect: \n\nJason Thurner – NECA National Director of Industry Innovation\nRob Dixon – Ameren Updates\nElectri International Studies\, Data & Resources\nKyle McKenna\, Xavier Gassier & Karen O’Fallon – St Louis Chapter Resources\n\nWhether you’re new to NECA or looking to deepen your engagement\, this event will leave you with actionable takeaways you can put to use immediately. This is an opportunity to connect and learn how to unlock more value from your membership. \n\n                \n                        \n                            RSVP NOW - Membership Meeting 11/4\n                             \n                        \n                        EmailThis field is for validation purposes and should be left unchanged.Company:*Name:*Email:*\n                            \n                        Can you attend?*\n			\n				\n				Yes\n			\n			\n				\n				No\n			What would you like as your entree?*\n			\n				\n				Chicken Piccata\n			\n			\n				\n				Wood Fire Grilled Alaskan Halibut\n			\n			\n				\n				Center Cut Filet\n			Would you like to register other key team members?*\n			\n				\n				Yes\n			\n			\n				\n				No\n			The St. Louis Chapter encourages each member contractor to be represented at all our meetings.  If you are unable to make this event or would like to bring additional team members\, please add them here. Guest 1 Name:*Email:*\n                            \n                        What would Guest 1 like as an entree?*\n			\n				\n				Chicken Picatta\n			\n			\n				\n				Wood Fire Grilled Alaskan Halibut\n			\n			\n				\n				Center Cut Filet\n			Guest 2 Name:Email:\n                            \n                        What would Guest 2 like as an entree?\n			\n				\n				Chicken Picatta\n			\n			\n				\n				Wood Fire Grilled Alaskan Halibut\n			\n			\n				\n				Center Cut Filet\n			Guest 3 Name:Email:\n                            \n                        What would Guest 3 like as an entree?\n			\n				\n				Chicken Picatta\n			\n			\n				\n				Wood Fire Grilled Alaskan Halibut\n			\n			\n				\n				Center Cut Filet\n			Comments or Questions
URL:https://stlneca.org/event/membership-meeting-make-the-most-of-your-membership-sunset-event-space-by-twisted-tree/
LOCATION:Sunset Event Space by Twisted Tree (Holiday Inn – Route 66)\, 10709 Watson Rd\, St. Louis\, MO\, 63127\, United States
END:VEVENT
BEGIN:VEVENT
DTSTART;TZID=America/Chicago:20251103T080000
DTEND;TZID=America/Chicago:20251104T160000
DTSTAMP:20260423T174044
CREATED:20250215T214622Z
LAST-MODIFIED:20250730T153846Z
UID:2063-1762156800-1762272000@stlneca.org
SUMMARY:Advanced Estimating Strategies for Electrical Construction - 2 Day Course
DESCRIPTION:RSVP Now - Advanced Estimating\n                             \n							"*" indicates required fields \n                        \n                        Name:*\n                            \n                            \n                                                    \n                                                    First\n                                                \n                            \n                            \n                                                    \n                                                    Last\n                                                \n                            \n                        Company:*Email:*\n                            \n                        Dietary Restrictions or preferences:\n                            \n                        Address:*    \n                    \n                         \n                                        \n                                        Street Address\n                                    \n                                        \n                                        Address Line 2\n                                    \n                                    \n                                    City\n                                 \n                                        AlabamaAlaskaAmerican SamoaArizonaArkansasCaliforniaColoradoConnecticutDelawareDistrict of ColumbiaFloridaGeorgiaGuamHawaiiIdahoIllinoisIndianaIowaKansasKentuckyLouisianaMaineMarylandMassachusettsMichiganMinnesotaMississippiMissouriMontanaNebraskaNevadaNew HampshireNew JerseyNew MexicoNew YorkNorth CarolinaNorth DakotaNorthern Mariana IslandsOhioOklahomaOregonPennsylvaniaPuerto RicoRhode IslandSouth CarolinaSouth DakotaTennesseeTexasUtahU.S. Virgin IslandsVermontVirginiaWashingtonWest VirginiaWisconsinWyomingArmed Forces AmericasArmed Forces EuropeArmed Forces Pacific\n                                        State\n                                      \n                                    \n                                    ZIP Code\n                                \n                    \n                $0 Registration Fee for St. Louis Chapter NECA | Contractors will be invoiced $200 for each no show.NECA Members outside the St. Louis Chapter - $750 per attendee | \n\nSignatory Contractors - $950 per attendee \n\n          \n            \n            \n            \n            \n            \n            \n            \n            \n            \n            \n            \n            \n            \n        \n                        \n                        \n\n\n\n\nSunset Events by Twisted Tree (Holiday Inn – Route 66) 10709 Watson Rd.\n\n\nIn this 2 day program\, participants will discuss all the phases of the estimating process. This course covers the various aspects of preparing and submitting a competitive bid.  \nKey topics include:  \n\nIdentifying desirable bid opportunities\nAnalyzing the company’s capabilities to ensure profitable results\nThe estimator’s role at various stages of the project\nWriting an effective scope letter\nIdentifying often hidden costs in the bid documents\n\nBuilding upon the principles taught in NECA’s Basic Estimating course\, Advanced Estimating Strategies focuses on the strategy and business decisions made during the estimating and bidding process. The course intends to help estimators and managers think strategically about how they find\, evaluate\, and bid on electrical construction projects. Participants of this course should already have an understanding and experience in estimating and bidding on electrical construction projects. This program is recommended for individuals who have successfully completed the Basic Estimating in Electrical Construction course or have similar industry experience. \n\n\nCost:  \n\nSt. Louis Chapter NECA Member Contractors – FREE ($200 no show charge)\nNECA Member Contractors outside the St. Louis Chapter – $750 per attendee\nSignatory Contractors – $950 per attendee\n\n\n\n\nClass Capacity – 30\n\n\nAgenda:  \n7:30am Light Breakfast \n8am Class Starts \n11:30am Lunch \n4pm Class Ends\n\n\nContact Karen O’Fallon at karen@stlneca.org or 314-497-1241 for questions or to be placed on the waitlist\n\n\n\n\n\n\n  \n  \n  \n 
URL:https://stlneca.org/event/advanced-estimating-strategies-for-electrical-construction-2-day-course-save-the-date/
LOCATION:Sunset Event Space by Twisted Tree (Holiday Inn – Route 66)\, 10709 Watson Rd\, St. Louis\, MO\, 63127\, United States
ORGANIZER;CN="Karen O'Fallon":MAILTO:karen@stlneca.org
END:VEVENT
BEGIN:VEVENT
DTSTART;TZID=America/Chicago:20251030T163000
DTEND;TZID=America/Chicago:20251030T190000
DTSTAMP:20260423T174044
CREATED:20251027T182053Z
LAST-MODIFIED:20251027T195808Z
UID:2337-1761841800-1761850800@stlneca.org
SUMMARY:MOVDVS Ratification Meeting
DESCRIPTION:Entrees will be selected upon arrival. \n\n                \n                        \n                            RSVP Now - MOVDVS RATIFICATION MEETING\n                             \n                        \n                        FacebookThis field is for validation purposes and should be left unchanged.Your Company:*Your Name:*Your Email:*\n                            \n                        Will you attend?*\n			\n				\n				Yes\n			\n			\n				\n				No\n			Would you like to register additional team members?*\n			\n				\n				Yes\n			\n			\n				\n				No\n			Guest 1 Name:Guest 1 Email:\n                            \n                        Guest 2 Name:Guest 2 Email:
URL:https://stlneca.org/event/movdvs-ratification-meeting/
LOCATION:Bristol Seafood Grill\, 11801 Olive Blvd\, Creve Coeur\, MO\, 63141\, United States
ORGANIZER;CN="Karen O'Fallon":MAILTO:karen@stlneca.org
END:VEVENT
END:VCALENDAR