BEGIN:VCALENDAR
VERSION:2.0
PRODID:-//St. Louis Chapter of the National Electrical Contractors Association - ECPv6.15.20//NONSGML v1.0//EN
CALSCALE:GREGORIAN
METHOD:PUBLISH
X-ORIGINAL-URL:https://stlneca.org
X-WR-CALDESC:Events for St. Louis Chapter of the National Electrical Contractors Association
REFRESH-INTERVAL;VALUE=DURATION:PT1H
X-Robots-Tag:noindex
X-PUBLISHED-TTL:PT1H
BEGIN:VTIMEZONE
TZID:America/Chicago
BEGIN:DAYLIGHT
TZOFFSETFROM:-0600
TZOFFSETTO:-0500
TZNAME:CDT
DTSTART:20250309T080000
END:DAYLIGHT
BEGIN:STANDARD
TZOFFSETFROM:-0500
TZOFFSETTO:-0600
TZNAME:CST
DTSTART:20251102T070000
END:STANDARD
BEGIN:DAYLIGHT
TZOFFSETFROM:-0600
TZOFFSETTO:-0500
TZNAME:CDT
DTSTART:20260308T080000
END:DAYLIGHT
BEGIN:STANDARD
TZOFFSETFROM:-0500
TZOFFSETTO:-0600
TZNAME:CST
DTSTART:20261101T070000
END:STANDARD
BEGIN:DAYLIGHT
TZOFFSETFROM:-0600
TZOFFSETTO:-0500
TZNAME:CDT
DTSTART:20270314T080000
END:DAYLIGHT
BEGIN:STANDARD
TZOFFSETFROM:-0500
TZOFFSETTO:-0600
TZNAME:CST
DTSTART:20271107T070000
END:STANDARD
END:VTIMEZONE
BEGIN:VEVENT
DTSTART;TZID=America/Chicago:20260901T163000
DTEND;TZID=America/Chicago:20260901T193000
DTSTAMP:20260423T192804
CREATED:20260210T204117Z
LAST-MODIFIED:20260210T205102Z
UID:2588-1788280200-1788291000@stlneca.org
SUMMARY:Membership Meeting: Limited Energy Outlook - Jeff Beavers (NECA National)
DESCRIPTION:REGISTRATION OPENS SOON! \nPower Hour Roundtable 3-4pm Join us for an informal\, open-discussion session held one hour before our Membership Meeting. Each roundtable features a timely\, relevant topic impacting electrical contractors today. This is not a presentation – it’s a conversation. \nOpen bar\, open dialogue\, and the opportunity to connect with peers\, exchange perspectives\, and learn from one another in a relaxed setting. All members are welcome. \nMembership Meeting 4:30pm | Jeff Beavers (NECA)
URL:https://stlneca.org/event/limited-energy-outlook-jeff-beavers-neca/
LOCATION:Sunset Event Space by Twisted Tree (Holiday Inn – Route 66)\, 10709 Watson Rd\, St. Louis\, MO\, 63127\, United States
ORGANIZER;CN="Karen O'Fallon":MAILTO:karen@stlneca.org
END:VEVENT
BEGIN:VEVENT
DTSTART;TZID=America/Chicago:20260908T080000
DTEND;TZID=America/Chicago:20260908T110000
DTSTAMP:20260423T192804
CREATED:20260116T211759Z
LAST-MODIFIED:20260422T184443Z
UID:2501-1788854400-1788865200@stlneca.org
SUMMARY:Pull Planning - Stephane McShane
DESCRIPTION:REGISTRATION OPENS SOON \n7:30am Light Breakfast \n7:45am Check in \n8:00 am Course Begins \n11 am Course Concludes \n11am Lunch \nCost:\n St. Louis NECA Member – FREE (St. Louis Members are given priority registration)\n NECA Member Outside St. Louis – $300\n Signatory Member – $450
URL:https://stlneca.org/event/pull-planning-stephane-mcshane/
LOCATION:Sunset Event Space by Twisted Tree (Holiday Inn – Route 66)\, 10709 Watson Rd\, St. Louis\, MO\, 63127\, United States
ORGANIZER;CN="Karen O'Fallon":MAILTO:karen@stlneca.org
END:VEVENT
BEGIN:VEVENT
DTSTART;TZID=America/Chicago:20260915T083000
DTEND;TZID=America/Chicago:20260916T163000
DTSTAMP:20260423T192804
CREATED:20260210T195235Z
LAST-MODIFIED:20260422T184652Z
UID:2576-1789461000-1789576200@stlneca.org
SUMMARY:Leading with Success - Refresher 2 Day Course 9/15 & 9/16
DESCRIPTION:REGISTRATION AT BOTTOM OF PAGE \nSTL NECA Members $160 per attendee ($800 no show fee) \nNECA Members outside the St. Louis Chapter – $1\,000 per attendee \nSignatory Contractors – $1\,500 per attendee \nWhy Take the Leading with Success Refresher Course? \n• Leadership is not a one-time skill set – it is a practice that must evolve as people\,\nteams\, and workplaces change. The Leadership Refresher Course is designed for\nleaders who have already completed the original full-day program and want to\nstrengthen their effectiveness by revisiting and applying its most critical concepts. \n• This refresher is not a repeat of the original course; it is an opportunity to review\nkey concepts\, learn new tools within those concepts\, sharpen skills\, deepen\nconfidence\, and translate learning into consistent leadership behaviors. \n• Since completing the original course\, leaders have likely faced new challenges:\nshifting workforce expectations\, multigenerational teams\, increased workloads\,\nand greater pressure to deliver results through others. The refresher course\nreconnects participants to the core foundations of situational leadership\, effective\ncommunication\, coaching\, performance management\, and team leadership while\nemphasizing real-world application. Leaders revisit how to flex their leadership\nstyle based on the needs of individuals\, teams\, and situations\, ensuring they lead\nwith intention rather than habit. \n• The refresher also reinforces the communication and coaching skills that have the\ngreatest impact on performance. Participants practice delivering clear\nexpectations\, providing meaningful feedback using proven tools such as the STAR\nmethod\, and conducting productive performance conversations. By reexamining\nthese skills\, leaders gain renewed clarity on how to motivate\, recognize\, and\ndevelop their people rather than simply managing tasks. \n• As organizations continue to evolve\, hiring\, delegation\, conflict management\, and\nchange leadership have become more complex. This refresher revisits behavioral\ninterviewing techniques to help leaders make better hiring decisions\, reduce\nturnover\, and avoid costly mistakes. Leaders also refine their delegation and\nempowerment skills\, learning how to build capability and accountability across\ntheir teams. Through practical discussion and scenarios\, participants strengthen\ntheir ability to address conflict constructively and guide employees through change\nwith empathy and confidence. \n• Finally\, the refresher brings all concepts together by renewing the focus on\nbuilding and sustaining high-performing teams. Leaders leave with a clear\nunderstanding of how their daily actions influence trust\, engagement\, and results. \nThe outcome is renewed focus\, practical tools\, and a clear action plan helping\nleaders move from knowing what to do to consistently doing it well. \n\n\n                \n                        \n                            RSVP Now - Leading with Success: 2 Day - Refresher Course\n                             \n							"*" indicates required fields \n                        \n                        PhoneThis field is for validation purposes and should be left unchanged.First and Last Name*Company:*Attendee Job Title:Attendee Email:*\n                            \n                        Phone*This field is hidden when viewing the formAttendee Phone NumberDietary Restrictions or preferences (skip if none)Contractor Business Address:*    \n                    \n                         \n                                        \n                                        Street Address\n                                    \n                                        \n                                        Address Line 2\n                                    \n                                    \n                                    City\n                                 \n                                        AlabamaAlaskaAmerican SamoaArizonaArkansasCaliforniaColoradoConnecticutDelawareDistrict of ColumbiaFloridaGeorgiaGuamHawaiiIdahoIllinoisIndianaIowaKansasKentuckyLouisianaMaineMarylandMassachusettsMichiganMinnesotaMississippiMissouriMontanaNebraskaNevadaNew HampshireNew JerseyNew MexicoNew YorkNorth CarolinaNorth DakotaNorthern Mariana IslandsOhioOklahomaOregonPennsylvaniaPuerto RicoRhode IslandSouth CarolinaSouth DakotaTennesseeTexasUtahU.S. Virgin IslandsVermontVirginiaWashingtonWest VirginiaWisconsinWyomingArmed Forces AmericasArmed Forces EuropeArmed Forces Pacific\n                                        State\n                                      \n                                    \n                                    ZIP Code\n                                \n                    \n                $160 Registration Fee for St. Louis Chapter NECA | Contractors will be invoiced $800 for each no show.NECA Members outside the St. Louis Chapter - $1\,000 per attendee | \n\nSignatory Contractors - $1\,500 per attendee \nComments or Questions\n          \n            \n            \n            \n            \n            \n            \n            \n            \n            \n            \n            \n            \n            \n        \n                        \n                        \n\nBrentwood Community Center\n2505 S. Brentwood Boulevard 63144 \nLaurie Calzada is an entrepreneur\, author\, speaker\, and media host. She has written and presented on many topics\, such as successful leadership\, mastering change\, emotional intelligence\, dealing with generational gaps in the workplace\, and building high-performing teams. Her focus is to motivate those who desire to excel\, and she believes you can accomplish anything with enough determination and ambition. \nMs. Calzada’s unique style makes her an exceptional storyteller and presenter. Laurie will change your perspective on life and business. Using her personal experiences\, Laurie reaches into your hearts and minds to make you think about the most important things in your life. Listening to Laurie’s journey and advice will make you think about where you are and where you are headed. She gives practical exercises for you to incorporate into your daily life. \nWith an entrepreneurial spirit\, she has successfully founded or co-founded eight different operations over the past 30 years. She has been a board member of numerous corporations and non-profit organizations. Her successful career began in 1987 in Oxford\, England\, while studying psychology at the University of Maryland\, European Division. She also graduated summa cum laude with a business degree from Purdue University. In addition\, she received a certification in Broadcast Journalism.
URL:https://stlneca.org/event/leading-with-success-refresher-2-day-course/
LOCATION:Brentwood Community Center\, 2505 South Brentwood Blvd\, Brentwood\, MO\, 63144\, United States
ORGANIZER;CN="Karen O'Fallon":MAILTO:karen@stlneca.org
END:VEVENT
BEGIN:VEVENT
DTSTART;TZID=America/Chicago:20261001T083000
DTEND;TZID=America/Chicago:20261112T163000
DTSTAMP:20260423T192804
CREATED:20260116T211107Z
LAST-MODIFIED:20260422T185402Z
UID:2495-1790843400-1794501000@stlneca.org
SUMMARY:Leading with Success - Advanced 4 Day Course
DESCRIPTION:Registration at the bottom of this page \nSTL NECA Members $500 per attendee ($1\,500 no show fee) \nNECA Members outside the St. Louis Chapter – $1\,850 per attendee \nSignatory Contractors – $2\,500 per attendee \n4 Thursdays: 10/1\, 10/15\, 10/29\, 11/12 \n8:30am – 4:30am \nBrentwood Community Center\n2505 S. Brentwood Boulevard 63144 \nModule 1: Leading to Mission and Culture\n• Defining culture\, climate\, and behaviors that reinforce and create climate and reinforce culture\n• Review and work with DiSC Manager’s Assessment Report on how to manage one’s\nbehavior and recognize the behavioral sets in the people being led to create better\ncommunication and results\n• Leading to the Mission\, Vision\, and Values of the organization\n• Exhibiting the behaviors that align to the Mission\, Vision\, Values and culture\n• Understanding how to create alignment to the organizational goals\n• Being clear with employees using the outcome directed (forward) thinking\n• Reviewing the Communication Model and creating messages that drive Impact and\nResults\, what to say and when to say it\, how to say it – a deeper dive into communication\ntactics\n• The role of asking great and powerful questions and how to frame excellent questions\,\nplus understanding how to frame strategic questions\n• How to deliver bad news \nModule 2: Developing People for Growth\n• Responsibility as a leader to develop people and create organizational leaders\n• Working with giving people the “why” of their work\n• Defining coaching and mentoring and coming up with approaches\n• Creating structured coaching plans\n• Themes in generational approaches\, particularly for what leaders need to know about\nthe success profiles of employees entering today’s workforce\n• The key question for the way to work through all generational “sticking points”\n• Differences in leading and coaching generational themes with laboratory work\n• How to make a business case to influence organizational leaders\n• Developing people every day and without a budget\n• Defining succession planning both informally and formally\n• A template for creating a formal mentoring program \nModule 3: Emotional Intelligence\n• Identifying the difference between IQ vs. EQ\n• Understanding the components of “self”\n• Working on self-awareness in your own life\n• Learning tactics for self-control and self-management\n• Learning to deal with emotions\n• Identifying moods and patterns in your life\n• Learning to do a mindset reset to adjust your thoughts\n• Working on social awareness strategies\n• Learning strategies for relationship regulation\n• Assessing your and other’s EQ habits \nModule 4: Leading with Critical Thinking Skills\n• Use techniques to analyze problems at a deeper level\n• Recognize and avoid critical thinking mistakes\n• Use mind mapping to quickly breakdown issues and resolve issues\n• Implement the critical thinking process\n• Learn to generate ideas as a group and organize them as they are generated\n• Avoiding Rationalization and Emotional Thinking\n• Turning Thinking into Action\n• Leading your people through Crisis\n• Identifying Prioritizations within Crisis Mode \nModule 5: Accountability\n• Understanding Accountability vs Responsibility\n• Understanding the consequences of not instilling and enforcing accountability\n• Identifying excuses\n• Understanding leadership’s accountability avoidance\n• Recognizing the top barriers to accountability\n• Learning the 5 C’s of Accountability\n• Acknowledging accountability in action\n• Managing accountability in others\n• Creating a culture of accountability \n  \n\n                \n                        \n                            RSVP Now - Leading with Success: Advanced 4 Day Course\n                             \n							"*" indicates required fields \n                        \n                        LinkedInThis field is for validation purposes and should be left unchanged.First and Last Name*Company:*Attendee Job Title:Attendee Email:*\n                            \n                        Phone*This field is hidden when viewing the formAttendee Phone NumberDietary Restrictions or preferences (skip if none)Contractor Business Address:*    \n                    \n                         \n                                        \n                                        Street Address\n                                    \n                                        \n                                        Address Line 2\n                                    \n                                    \n                                    City\n                                 \n                                        AlabamaAlaskaAmerican SamoaArizonaArkansasCaliforniaColoradoConnecticutDelawareDistrict of ColumbiaFloridaGeorgiaGuamHawaiiIdahoIllinoisIndianaIowaKansasKentuckyLouisianaMaineMarylandMassachusettsMichiganMinnesotaMississippiMissouriMontanaNebraskaNevadaNew HampshireNew JerseyNew MexicoNew YorkNorth CarolinaNorth DakotaNorthern Mariana IslandsOhioOklahomaOregonPennsylvaniaPuerto RicoRhode IslandSouth CarolinaSouth DakotaTennesseeTexasUtahU.S. Virgin IslandsVermontVirginiaWashingtonWest VirginiaWisconsinWyomingArmed Forces AmericasArmed Forces EuropeArmed Forces Pacific\n                                        State\n                                      \n                                    \n                                    ZIP Code\n                                \n                    \n                $500 Registration Fee for St. Louis Chapter NECA | Contractors will be invoiced $1500 for each no show.NECA Members outside the St. Louis Chapter - $1\,800 per attendee | \n\nSignatory Contractors - $2\,500 per attendee \nComments or Questions\n          \n            \n            \n            \n            \n            \n            \n            \n            \n            \n            \n            \n            \n            \n        \n                        \n                        \n\nLaurie Calzada is an entrepreneur\, author\, speaker\, and media host. She has written and presented on many topics\, such as successful leadership\, mastering change\, emotional intelligence\, dealing with generational gaps in the workplace\, and building high-performing teams. Her focus is to motivate those who desire to excel\, and she believes you can accomplish anything with enough determination and ambition. \nMs. Calzada’s unique style makes her an exceptional storyteller and presenter. Laurie will change your perspective on life and business. Using her personal experiences\, Laurie reaches into your hearts and minds to make you think about the most important things in your life. Listening to Laurie’s journey and advice will make you think about where you are and where you are headed. She gives practical exercises for you to incorporate into your daily life. \nWith an entrepreneurial spirit\, she has successfully founded or co-founded eight different operations over the past 30 years. She has been a board member of numerous corporations and non-profit organizations. Her successful career began in 1987 in Oxford\, England\, while studying psychology at the University of Maryland\, European Division. She also graduated summa cum laude with a business degree from Purdue University. In addition\, she received a certification in Broadcast Journalism.
URL:https://stlneca.org/event/leading-with-success-advanced-laurie-calzada/
LOCATION:Brentwood Community Center\, 2505 South Brentwood Blvd\, Brentwood\, MO\, 63144\, United States
ORGANIZER;CN="Karen O'Fallon":MAILTO:karen@stlneca.org
END:VEVENT
BEGIN:VEVENT
DTSTART;TZID=America/Chicago:20261016T183000
DTEND;TZID=America/Chicago:20261016T203000
DTSTAMP:20260423T192804
CREATED:20260116T214411Z
LAST-MODIFIED:20260116T214912Z
UID:2507-1792175400-1792182600@stlneca.org
SUMMARY:BOO at the ZOO | Family & Friends Fall Fun
DESCRIPTION:REGISTRATION OPENS SOON \nA SPOOKY (not scary) night of animals\, treats and fun. Family\, friends\, employees\, kids\, grandkids\, and all who would enjoy a fun night out! Costumes are welcome and encouraged!
URL:https://stlneca.org/event/boo-at-the-zoo-family-friends-fall-fun-kid-friendly/
LOCATION:St. Louis Zoo\, 1 Government Dr\, St. Louis\, MO\, 63110\, United States
ORGANIZER;CN="Karen O'Fallon":MAILTO:karen@stlneca.org
END:VEVENT
BEGIN:VEVENT
DTSTART;TZID=America/Chicago:20261020T080000
DTEND;TZID=America/Chicago:20261020T150000
DTSTAMP:20260423T192804
CREATED:20260116T212451Z
LAST-MODIFIED:20260422T204255Z
UID:2503-1792483200-1792508400@stlneca.org
SUMMARY:Foreman / Field Leadership Training - Jay Jones
DESCRIPTION:REGISTRATION OPENS SOON \nSTL NECA Members FREE ($200 no show fee) \nNECA Members outside the St. Louis Chapter – $400 per attendee \nSignatory Contractors – $600 per attendee \n \nJay B. Jones earned his Bachelor of Science Degree in Education from West Virginia Wesleyan College in 2000. While there\, Jay was named Captain of his Football Team and then went on to coach the Offensive Line for one season following graduation. After college\, Jay took his leadership off the football field and into the Electrical Construction Industry. After completing his Apprenticeship\, Jay became a Journeyman Wireman with IBEW Local Union 456 in New Brunswick\, New Jersey where he worked for 11 years as a Journeyman Wireman\, Foreman and General Foreman. He then had the opportunity to work with the National Electrical Contractors Association as a NECA Field Representative covering the NECA Eastern Region. He is a graduate of both the VOLT and NEXT Leadership Academies and has served as the Co-Coordinator for the Outstanding Apprentices attending the National Training Institute. For the past 3-years\, Jay has worked with the Penn-Del-Jersey Chapter as a Chapter Field Representative and the Director of Education.
URL:https://stlneca.org/event/foreman-field-leadership-training-jay-jones/
LOCATION:Sunset Event Space by Twisted Tree (Holiday Inn – Route 66)\, 10709 Watson Rd\, St. Louis\, MO\, 63127\, United States
ORGANIZER;CN="Karen O'Fallon":MAILTO:karen@stlneca.org
END:VEVENT
BEGIN:VEVENT
DTSTART;TZID=America/Chicago:20261103T163000
DTEND;TZID=America/Chicago:20261103T193000
DTSTAMP:20260423T192804
CREATED:20260210T204745Z
LAST-MODIFIED:20260210T205021Z
UID:2592-1793723400-1793734200@stlneca.org
SUMMARY:Membership Meeting | Education That Builds the Industry - Tim Speno (NECA National)
DESCRIPTION:REGISTRATION OPENS SOON \nTim Speno – NECA National \nPower Hour Roundtable 3-4pm Join us for an informal\, open-discussion session held one hour before our Membership Meeting. Each roundtable features a timely\, relevant topic impacting electrical contractors today. This is not a presentation – it’s a conversation. \nOpen bar\, open dialogue\, and the opportunity to connect with peers\, exchange perspectives\, and learn from one another in a relaxed setting. All members are welcome. \nMembership Meeting 4:30pm | Education That Builds the Industry
URL:https://stlneca.org/event/membership-meeting-education-that-builds-the-industry/
LOCATION:MAC West\, 1777 Des Peres Rd\, St. Louis\, MO\, 63131\, United States
ORGANIZER;CN="Karen O'Fallon":MAILTO:karen@stlneca.org
END:VEVENT
BEGIN:VEVENT
DTSTART;TZID=America/Chicago:20261114T170000
DTEND;TZID=America/Chicago:20261114T200000
DTSTAMP:20260423T192804
CREATED:20260116T215225Z
LAST-MODIFIED:20260116T215309Z
UID:2512-1794675600-1794686400@stlneca.org
SUMMARY:Garden Glow Couples & Friends Night - MO Botanical Garden
DESCRIPTION:REGISTRATION OPENS SOON
URL:https://stlneca.org/event/garden-glow-couples-friends-night-mo-botanical-garden/
LOCATION:Missouri Botanical Garden\, 4344 Shaw Blvd\, St. Louis\, MO\, 63110\, United States
ORGANIZER;CN="Karen O'Fallon":MAILTO:karen@stlneca.org
END:VEVENT
BEGIN:VEVENT
DTSTART;TZID=America/Chicago:20261203T160000
DTEND;TZID=America/Chicago:20261203T183000
DTSTAMP:20260423T192804
CREATED:20260116T215647Z
LAST-MODIFIED:20260116T215647Z
UID:2515-1796313600-1796322600@stlneca.org
SUMMARY:Up On The Rooftop Industry Happy Hour - 360 Westport
DESCRIPTION:REGISTRATION OPENS SOON
URL:https://stlneca.org/event/up-on-the-rooftop-industry-happy-hour-360-westport/
LOCATION:360 Westport\, 111 W Port Plaza Dr suite 1200\, St. Louis\, MO\, 63146\, United States
END:VEVENT
END:VCALENDAR