BEGIN:VCALENDAR
VERSION:2.0
PRODID:-//St. Louis Chapter of the National Electrical Contractors Association - ECPv6.15.20//NONSGML v1.0//EN
CALSCALE:GREGORIAN
METHOD:PUBLISH
X-WR-CALNAME:St. Louis Chapter of the National Electrical Contractors Association
X-ORIGINAL-URL:https://stlneca.org
X-WR-CALDESC:Events for St. Louis Chapter of the National Electrical Contractors Association
REFRESH-INTERVAL;VALUE=DURATION:PT1H
X-Robots-Tag:noindex
X-PUBLISHED-TTL:PT1H
BEGIN:VTIMEZONE
TZID:America/Chicago
BEGIN:DAYLIGHT
TZOFFSETFROM:-0600
TZOFFSETTO:-0500
TZNAME:CDT
DTSTART:20250309T080000
END:DAYLIGHT
BEGIN:STANDARD
TZOFFSETFROM:-0500
TZOFFSETTO:-0600
TZNAME:CST
DTSTART:20251102T070000
END:STANDARD
BEGIN:DAYLIGHT
TZOFFSETFROM:-0600
TZOFFSETTO:-0500
TZNAME:CDT
DTSTART:20260308T080000
END:DAYLIGHT
BEGIN:STANDARD
TZOFFSETFROM:-0500
TZOFFSETTO:-0600
TZNAME:CST
DTSTART:20261101T070000
END:STANDARD
BEGIN:DAYLIGHT
TZOFFSETFROM:-0600
TZOFFSETTO:-0500
TZNAME:CDT
DTSTART:20270314T080000
END:DAYLIGHT
BEGIN:STANDARD
TZOFFSETFROM:-0500
TZOFFSETTO:-0600
TZNAME:CST
DTSTART:20271107T070000
END:STANDARD
END:VTIMEZONE
BEGIN:VEVENT
DTSTART;TZID=America/Chicago:20260106T163000
DTEND;TZID=America/Chicago:20260106T193000
DTSTAMP:20260423T141826
CREATED:20250821T145203Z
LAST-MODIFIED:20260105T224927Z
UID:2262-1767717000-1767727800@stlneca.org
SUMMARY:Annual Membership Meeting | Olive & Oak
DESCRIPTION:RSVP NOW - Annual Membership Meeting 1/6/26\n                             \n                        \n                        NameThis field is for validation purposes and should be left unchanged.Company:*First & Last Name:*Email:*\n                            \n                        Can you attend?*\n			\n				\n				Yes\n			\n			\n				\n				No\n			What would you like as your entree?*\n			\n				\n				Soba Noodles - tahini-miso mushrooms\, Bok choy\, carrot\, black beans\, scallion\, togarashi + fried garlic (vegetarian)\n			\n			\n				\n				Amish Chicken - grilled airline breast\, apricot-chili glaze\, fingerling potato\, red pepper\, spinach + paprika oil\n			\n			\n				\n				Market Whitefish - pan seared poblano\, bell peppers\, broccolini\, scallion\, jerk-coconut broth + fragrant rice\n			\n			\n				\n				Grilled Strip Steak - 8 ounce\, roasted grape\, balsamic-cipollini onion jam\, parsnip polenta + arugula\n			Do you have any Dietary Restrictions?Would you like to register other key team members?*\n			\n				\n				Yes\n			\n			\n				\n				No\n			The St. Louis Chapter encourages each member contractor to be represented at all our meetings.  If you are unable to make this event or would like to bring additional team members\, please add them here. Guest 1 First & Last Name:*Guest 1 Email:*\n                            \n                        What would Guest 1 like as an entree?*\n			\n				\n				Soba Noodles - tahini-miso mushrooms\, Bok choy\, carrot\, black beans\, scallion\, togarashi + fried garlic (vegetarian)\n			\n			\n				\n				Amish Chicken - grilled airline breast\, apricot-chili glaze\, fingerling potato\, red pepper\, spinach + paprika oil\n			\n			\n				\n				Market Whitefish - pan seared poblano\, bell peppers\, broccolini\, scallion\, jerk-coconut broth + fragrant rice\n			\n			\n				\n				Grilled Strip Steak - 8 ounce\, roasted grape\, balsamic-cipollini onion jam\, parsnip polenta + arugula\n			Guest 1 Dietary RestrictionsGuest 2 First & Last Name:Guest 2 Email:\n                            \n                        What would Guest 2 like as an entree?\n			\n				\n				Soba Noodles - tahini-miso mushrooms\, Bok choy\, carrot\, black beans\, scallion\, togarashi + fried garlic (vegetarian)\n			\n			\n				\n				Amish Chicken - grilled airline breast\, apricot-chili glaze\, fingerling potato\, red pepper\, spinach + paprika oil\n			\n			\n				\n				Market Whitefish - pan seared poblano\, bell peppers\, broccolini\, scallion\, jerk-coconut broth + fragrant rice\n			\n			\n				\n				Grilled Strip Steak - 8 ounce\, roasted grape\, balsamic-cipollini onion jam\, parsnip polenta + arugula\n			Guest 2 Dietary RestrictionsComments or Questions\n          \n            \n            \n            \n            \n            \n            \n            \n            \n            \n            \n            \n            \n            \n        \n                        \n                        \n\n \nATTENDANCE LIST AS OF 1/4/2026 \n\n\n\n\n\n\nADL Communications\nBrandon Vatterott\n\n\nADL Communications\nLonnie Somers\n\n\nAkron Electric Co.\, Inc.\nDan Auer\n\n\nAkron Electric Co.\, Inc.\nMark Hanneken\n\n\nAkron Electric Co.\, Inc.\nNeil Yount\n\n\nAkron Electric Co.\, Inc.\nPatrick Clancy\n\n\nAmerican Elec & Data\nTom Prade\n\n\nArchKey/Sachs\nJanice Maitland\n\n\nArchKey/Sachs\nJesse Thurber\n\n\nArchKey/Sachs\nJoe Young\n\n\nArchKey/Sachs\nJohn Lembeck\n\n\nArchKey/Sachs\nTim Culleton\n\n\nAuthorized\nTom Broderick\n\n\nBell Electrical Contractors\nJerry Dorhauer\n\n\nBT Electric\nBruce Terry\n\n\nBurris Electric\nJason Burris\n\n\nD&R Building\nBrandon Beck\n\n\nD&R Building\nLeonard Adewunmi\n\n\nD&R Building\nNicholas Babcock\n\n\nD&R Building\nRich Alexander\n\n\nGraybar\nBrian Berninger\n\n\nGuarantee Electrical Company\nBecky Austermann\n\n\nGuarantee Electrical Company\nDave Gralike\n\n\nGuarantee Electrical Company\nEmily Martin\n\n\nGuarantee Electrical Company\nGrant Gralike\n\n\nGuarantee Electrical Company\nJake Wieneke\n\n\nGuarantee Electrical Company\nMark Riley\n\n\nGuarantee Electrical Company\nMike Hoefler\n\n\nGuarantee Electrical Company\nMike Seger\n\n\nHanenkamp\nJason Snyder\n\n\nHanenkamp\nKevin Snyder\n\n\nHanenkamp\nMel Snyder\n\n\nHonorary Member\nBob Senf\n\n\nHonorary Member\nTerry Brogan\n\n\nJ Bathe Electric\nBradley Bathe\n\n\nJ Bathe Electric\nDan Mayberry\n\n\nJF Electric\nChad Boeving\n\n\nKaiser Electric\nBryan Truemper\n\n\nKaiser Electric\nChuck Wrigley\n\n\nKaiser Electric\nDennis Harter\n\n\nKaiser Electric\nKatie Folk\n\n\nKay Bee Electric\nChad Scheidegger\n\n\nKay Bee Electric\nKevin Renaud\n\n\nMizzou Student Chapter\nArmani Emery\n\n\nMizzou Student Chapter\nTyson Murphy\n\n\nNECA\nDeb Stephens\n\n\nNECA\nKaren O’Fallon\n\n\nNECA\nKyle McKenna\n\n\nNECA\nXavier Gassier\n\n\nNetCom\, Inc.\nAndy Baker\n\n\nNetCom\, Inc.\nDaniel Baker\n\n\nNetCom\, Inc.\nRick Baker\n\n\nNooter\nDave Reim\n\n\nNorthwest\nJim Carter\n\n\nNSC\nDakota Riddle\n\n\nPayneCrest Electric\nJoe Wilmes\n\n\nPayneCrest Electric\nKen Schindler\n\n\nPrimary Systems\, Inc\nFrank Henry\n\n\nPrimary Systems\, Inc\nMatt Ocenas\n\n\nPrimary Systems\, Inc\nRyan Potts\n\n\nPrimary Systems\, Inc\nSteven Potts\n\n\nPrimary Systems\, Inc\nTony Perotti\n\n\nSchaeffer\nBrian Wetteroff\n\n\nSchaeffer\nJustin Kohlman\n\n\nSchaeffer\nKenny Bassler\n\n\nSchaeffer\nMike Lucas\n\n\nStiarwalt\nCharlie Stiarwalt\n\n\nStiarwalt\nShuan Stiarwalt\n\n\nTristar\nJason Schepis\n\n\nTristar\nTracy Lipari\n\n\nVeteran Member\nEric Ashinger\n\n\nVision\nBrian Womack\n\n\nVision\nEric Longland\n\n\nVision\nWalter Sickels\n\n\nVision\nPhillip Palacios\n\n\nVision\nJoe Dody
URL:https://stlneca.org/event/annual-membership-meeting/
LOCATION:The Hall at Olive & Oak\, 216 W Lockwood Ave\, Webster Groves\, MO\, 63119\, United States
ORGANIZER;CN="Karen O'Fallon":MAILTO:karen@stlneca.org
END:VEVENT
BEGIN:VEVENT
DTSTART;TZID=America/Chicago:20260121T080000
DTEND;TZID=America/Chicago:20260123T180000
DTSTAMP:20260423T141826
CREATED:20250925T021259Z
LAST-MODIFIED:20251208T225331Z
UID:2297-1768982400-1769191200@stlneca.org
SUMMARY:ELECTRI Winter Council Meeting l San Antonio\, TX
DESCRIPTION:Jan 21\, 2026 – Jan 23\, 2026 \nOmni La Mansión del Rio \n112 College St\nSan Antonio\, TX \nThe ELECTRI Winter Council meeting will take place in San Antonio. Besides research updates and voting on new research proposals\, ELECTRI Council Member Alterman\, Inc. will be allowing attendees to visit their new headquarters.  We are excited to present this opportunity to our Council. \nMORE INFO HERE \n \n 
URL:https://stlneca.org/event/electri-winter-council-meeting-2026/
LOCATION:Omni La Mansion del Rio\, 112 College St\, San Antonio\, TX\, 78205\, United States
ORGANIZER;CN="Karen O'Fallon":MAILTO:karen@stlneca.org
END:VEVENT
BEGIN:VEVENT
DTSTART;VALUE=DATE:20260126
DTEND;VALUE=DATE:20260129
DTSTAMP:20260423T141826
CREATED:20251007T223343Z
LAST-MODIFIED:20251208T225243Z
UID:2320-1769385600-1769644799@stlneca.org
SUMMARY:MEP Innovation Conference l Austin\, TX
DESCRIPTION:REGISTER HERE
URL:https://stlneca.org/event/mep-innovation-conference/
LOCATION:Austin Marriott Downtown\, 304 E Cesar Chavez St\, Austin\, TX\, 78701\, United States
ORGANIZER;CN="Karen O'Fallon":MAILTO:karen@stlneca.org
END:VEVENT
BEGIN:VEVENT
DTSTART;TZID=America/Chicago:20260128T110000
DTEND;TZID=America/Chicago:20260128T130000
DTSTAMP:20260423T141826
CREATED:20251219T144922Z
LAST-MODIFIED:20260122T202121Z
UID:2423-1769598000-1769605200@stlneca.org
SUMMARY:TradeSchool Access Training - Lunch & Learn
DESCRIPTION:TradeSchool Access TrainingInstructor: Bill Papin\, Assistant Director\, St. Louis JATC \nWednesday\, January 2811:00 AM – 1:00 PM @ IBEW Local 1’s HallBoxed lunch provided (eat on-site or take to go) \nThis training session will walk NECA Members through how to access and navigate the TradeSchool website to view apprentice information assigned to their shop. \n\nIMPORTANT – REQUIRED BEFORE ATTENDING\nAll attendees MUST be set up as users in TradeSchool prior to the training. \nTo be granted access\, contractors must send the names and email addresses for all participants to billp@stlejatc.org and information@stlejatc.org with Subject Line: “Contractor Name TradeSchool Email Access” \n\nWhat you’ll learn in this Training Session: \n\nHow to log in to the TradeSchool system\nWhere to find apprentice records assigned to your company\nHow to view apprentice employment\, placement\, work experience\, evaluations and pay advancement information\n\nWho should attend: Anyone responsible for apprentice employment\, placement\, and pay advancements \nWhat to bring: A charged laptop (required) \n\n                \n                        \n                            RSVP Now - TradeSchool Access Training - Lunch & Learn\n                             \n							"*" indicates required fields \n                        \n                        LinkedInThis field is for validation purposes and should be left unchanged.Name:*\n                            \n                            \n                                                    \n                                                    First\n                                                \n                            \n                            \n                                                    \n                                                    Last\n                                                \n                            \n                        Company:*Email:*\n                            \n                        I have sent the name and email of all participants to billp@stlejatc.org and information@stlejatc.org with Subject Line: “Contractor Name TradeSchool Email Access”. This will insure a smooth process the day of the training.\n			\n					\n					Yes\n			I will bring a charged laptop to the training session\n			\n					\n					Yes\n			Questions or Comments:\n                            \n                        Boxed Lunch Options\n			\n					\n					Sandwich\n			\n			\n					\n					Salad\n			\n			\n					\n					None\n			Dietary Restrictions or preferences:\n                            \n                        $0 Registration Fee for St. Louis Chapter NECA | "No shows" will be invoiced $25 each.\n\n          \n            \n            \n            \n            \n            \n            \n            \n            \n            \n            \n            \n            \n            \n        \n                        \n                        \n\nRegistrations as of 1/22/26 \n\n\n\n\n\n\n\nADL Communications\nLonnie\nSomers\n\n\nAkron Electric\nPatrick\nClancy\n\n\nAkron Electric\nMark\nHanneken\n\n\nAkron Electric\nMatt\nHeilich\n\n\nAkron Electric\nScott\nHanneken\n\n\nBranson Electric Inc.\nHeather\nBranson\n\n\nGuarantee Electric\nBecky\nAustermann\n\n\nGuarantee Electric\nKevin\nLayton\n\n\nGuarantee Electric\nDavid\nGralike\n\n\nJ.F. Electric\nMatt\nMurray\n\n\nKay-Bee Electric\nCarol\nHoxworth\n\n\nMeier Electric\nTracey\nSchaffer\n\n\nNECA\nKaren\nO’Fallon\n\n\nNetCom\, Inc.\nAndy\nBaker\n\n\nPrimary Systems\nBrenna\nBay\n\n\nPrimary Systems\nKathleen\nHiatt\n\n\nPrimary Systems\nMatt\nOcenas\n\n\nPrimary Systems\nTony\nPerotti\n\n\nPrimary Systems\nAaron\nPotts\n\n\nrYse Electric\nJohn\nSchoenberger\n\n\nrYse electric\nBecky\nSmith\n\n\nSchaeffer Electric\nKenny\nBassler\n\n\nSchaeffer Electric\nMichael\nLucas\n\n\nSchaeffer Electric\nMelody\nOswald\n\n\nUtilitra / J.F. Electric\nTyanne\nHuffman\n\n\nUtilitra / J.F. Electric\nBrian\nTaylor\n\n\nVision Electric\nCharlene\nBrown\n\n\nVision Electric\nMichelle\nLindsey\n\n\nVision Electric\nBianca\nPalacios
URL:https://stlneca.org/event/tradeschool-contractor-access-training-lunch-learn/
LOCATION:IBEW Local 1’s Hall\, 5850 Elizabeth Ave\, St. Louis\, 63110\, United States
ORGANIZER;CN="Karen O'Fallon":MAILTO:karen@stlneca.org
END:VEVENT
BEGIN:VEVENT
DTSTART;TZID=America/Chicago:20260128T170000
DTEND;TZID=America/Chicago:20260128T190000
DTSTAMP:20260423T141826
CREATED:20260112T150021Z
LAST-MODIFIED:20260112T150021Z
UID:2476-1769619600-1769626800@stlneca.org
SUMMARY:Central Missouri Division Membership Meeting 1/28
DESCRIPTION:RSVP Now - Central Missouri Division Membership Meeting 1/28\n                             \n							"*" indicates required fields \n                        \n                        CompanyThis field is for validation purposes and should be left unchanged.Your Company:*Your Name:*Your Email:*\n                            \n                        Will you attend?*\n			\n					\n					Yes\n			\n			\n					\n					No\n			Would you like to register additional team members?*\n			\n					\n					Yes\n			\n			\n					\n					No\n			Guest 1 Company:Guest 1 Name:Guest 1 Email:\n                            \n                        Guest 2 Company:Guest 2 Name:Guest 2 Email:
URL:https://stlneca.org/event/central-missouri-division-membership-meeting-1-28/
LOCATION:Meadow Lakes Country Club\, 2600 Meadow Lake Drive\, New Bloomfield\, MO\, 65063\, United States
ORGANIZER;CN="Karen O'Fallon":MAILTO:karen@stlneca.org
END:VEVENT
END:VCALENDAR