BEGIN:VCALENDAR
VERSION:2.0
PRODID:-//St. Louis Chapter of the National Electrical Contractors Association - ECPv6.15.20//NONSGML v1.0//EN
CALSCALE:GREGORIAN
METHOD:PUBLISH
X-ORIGINAL-URL:https://stlneca.org
X-WR-CALDESC:Events for St. Louis Chapter of the National Electrical Contractors Association
REFRESH-INTERVAL;VALUE=DURATION:PT1H
X-Robots-Tag:noindex
X-PUBLISHED-TTL:PT1H
BEGIN:VTIMEZONE
TZID:America/Chicago
BEGIN:DAYLIGHT
TZOFFSETFROM:-0600
TZOFFSETTO:-0500
TZNAME:CDT
DTSTART:20250309T080000
END:DAYLIGHT
BEGIN:STANDARD
TZOFFSETFROM:-0500
TZOFFSETTO:-0600
TZNAME:CST
DTSTART:20251102T070000
END:STANDARD
BEGIN:DAYLIGHT
TZOFFSETFROM:-0600
TZOFFSETTO:-0500
TZNAME:CDT
DTSTART:20260308T080000
END:DAYLIGHT
BEGIN:STANDARD
TZOFFSETFROM:-0500
TZOFFSETTO:-0600
TZNAME:CST
DTSTART:20261101T070000
END:STANDARD
BEGIN:DAYLIGHT
TZOFFSETFROM:-0600
TZOFFSETTO:-0500
TZNAME:CDT
DTSTART:20270314T080000
END:DAYLIGHT
BEGIN:STANDARD
TZOFFSETFROM:-0500
TZOFFSETTO:-0600
TZNAME:CST
DTSTART:20271107T070000
END:STANDARD
END:VTIMEZONE
BEGIN:VEVENT
DTSTART;VALUE=DATE:20260202
DTEND;VALUE=DATE:20260205
DTSTAMP:20260423T130049
CREATED:20251206T033155Z
LAST-MODIFIED:20251206T033454Z
UID:2396-1769990400-1770249599@stlneca.org
SUMMARY:Women in NECA Conference (WIN) Dallas\, TX
DESCRIPTION:REGISTER HERE \n \n \n \n 
URL:https://stlneca.org/event/women-in-neca-conference-win/
LOCATION:Hotel Crescent Court\, 400 Crescent Ct\, Dallas\, 75201\, United States
ORGANIZER;CN="Karen O'Fallon":MAILTO:karen@stlneca.org
END:VEVENT
BEGIN:VEVENT
DTSTART;TZID=America/Chicago:20260207T160000
DTEND;TZID=America/Chicago:20260207T190000
DTSTAMP:20260423T130049
CREATED:20250825T142343Z
LAST-MODIFIED:20260206T230039Z
UID:2272-1770480000-1770490800@stlneca.org
SUMMARY:STL NECA Uncorked: An Evening at 360 Westport
DESCRIPTION:Join fellow NECA members and their guests for an adults-only night of great food\, drinks\, and conversation. Enjoy dinner\, crafted cocktails\, a wine tasting\, and a decadent dessert station. All with stunning views from 360 Westport. \nAll St. Louis NECA Member Contractors and their guests are welcome. Feel free to share this invitation with all key management personnel and invite friends\, spouses\, partners\, to enjoy a fun night out! \nParkingParking is available in multiple surface lots and garages throughout Westport Plaza. Garage validation may be available upon request\, but is not guaranteed\, so we recommend allowing a little extra time to park and walk over. \nAttireBusiness casual. Dress it up or dress it down. No coat and tie required. Wear what you feel comfortable in. \nFood & DrinkEnjoy a selection of heavy appetizers along with a tenderloin carving station throughout the evening. Come hungry and plan to snack\, sip\, and socialize. \nAgenda & SeatingThis is a relaxed\, social event designed for mixing and mingling. Guests can enjoy a mix of cocktail tables\, lounge seating\, and dining seating. \nREGISTER BELOW \n \nREGISTRATIONS AS OF 2/3/26 \n\n\n\n\n\n\n\nAECInspire\nAdam Ketterer\n2\n\n\nAmerican Electric\nTom Prade\n10\n\n\nArchKey Solutions\nJesse Thurber\n2\n\n\nArchKey / Sachs\nTim Culleton\n2\n\n\nArchKey / Sachs\nJoe Young\n2\n\n\nArchKey / Sachs\nJoe Barnard\n2\n\n\nArchKey / Sachs\nJohn Lembeck\n2\n\n\nGuarantee Electrical Company\nDave Gralike\n2\n\n\nHanenkamp\nMel Snyder\n2\n\n\nJF Electric\nChad Boeving\n2\n\n\nJWest\nSabrina Westfall\n2\n\n\nKay Bee Electric\nNathan Ketterer\n3\n\n\nKay Bee Electric\nKevin Renaud\n2\n\n\nNational Safety Consulting\nDakota Riddle\n1\n\n\nNECA\nKaren O’Fallon\n2\n\n\nNECA\nKyle McKenna\n2\n\n\nPrimary Systems\nMitchell Potts\n2\n\n\nPrimary Systems\nMatt Ocenas\n1\n\n\nPrimary Systems\nSteven Potts\n3\n\n\nPrimary Systems\nRyan Potts\n2\n\n\nRetired\nMike Kranefuss\n2\n\n\nRetired\nTerry Brogan\n3\n\n\nSchaeffer Electric\nMike Lucas\n2\n\n\nSchaeffer Electric\nKenny Bassler\n2\n\n\nSchaeffer Electric\nNicholas King\n2\n\n\nSchaeffer Electric\nGage Lechner\n2\n\n\nSchaeffer Electric\nMatt Ward\n2\n\n\nSchaeffer Marketing Group\nTrent Hlafka\n2\n\n\nSt. Louis Electrical Connection\nTimothy Green\n1\n\n\nTotal Electric\nDanny Miller\n2\n\n\nTristar\nJason Schepis\n6\n\n\nVision Electric & Systems\nDan Versen\n2\n\n\nVision Electric & Systems\nEric Longland\n2\n\n\nVision Electric & Systems\nWalter Sickels\n5\n\n\nVision Electric & Systems\nBrian Womack\n2\n\n\nVision Electric & Systems\nJoe Dody\n2\n\n\nVision Electric & Systems\nPaul Mack\n2\n\n\n\n\n89\n\n\n\n\n\n                \n                        \n                            RSVP - STL NECA Uncorked: An Evening at 360 Westport\n                             \n							"*" indicates required fields \n                        \n                        LinkedInThis field is for validation purposes and should be left unchanged.Company:*First and Last Name:*Email:*\n                            \n                        Will you attend?*\n			\n					\n					Yes\n			\n			\n					\n					No\n			Would you like to register additional adult guests? Key management\, friends\, family\, spouses...all are welcome!*\n			\n					\n					Yes\n			\n			\n					\n					No\n			Guest First and Last NameGuest First and Last NameGuest First and Last NameGuest First and Last NameGuest First and Last NameGuest First and Last NameGuest First and Last NameGuest First and Last NameGuest First and Last NameQuestions or Comments?
URL:https://stlneca.org/event/stl-neca-uncorked-an-evening-at-360-westport/
LOCATION:360 Westport\, 111 W Port Plaza Dr suite 1200\, St. Louis\, MO\, 63146\, United States
ORGANIZER;CN="Karen O'Fallon":MAILTO:karen@stlneca.org
END:VEVENT
BEGIN:VEVENT
DTSTART;TZID=America/Chicago:20260211T080000
DTEND;TZID=America/Chicago:20260211T120000
DTSTAMP:20260423T130049
CREATED:20260108T133541Z
LAST-MODIFIED:20260210T171025Z
UID:2461-1770796800-1770811200@stlneca.org
SUMMARY:Cash Flow Mgmt and the Project Team Training
DESCRIPTION:REGISTRATION AT THE BOTTOM OF THIS PAGE \nWhat to expect: \nYour team will be given 18 specific improvements that can be made to accelerate your cash flow by at least\n10%. This workshop will take your team through what project-level cash flow is\, dispel common myths\, and\nprovide tracking metrics to get your team collaborating about cash. \nWho should attend:\n Owners and Executives\n Project Managers / Engineers\n Controllers / Accounts Receivable\n Contract Administrators \nHow will your team benefit:\nYour team will learn how to negotiate for the right terms before and during the project. They will have their\nminds opened to how to build and “sell” a schedule-of-values that improves cash flow. The team will hear how\nto aggressively bill and collect while building customer satisfaction. They will also understand how to close-out\nprojects quickly to get final payment. \nAdditional Info:\n Date: Wed. Feb 11\n Time: 8am – 12pm\n Place: Sunset Events Space – Navy Room\n Light breakfast\, beverages\, snacks and lunch will be served \nCost:\n St. Louis NECA Member – FREE (St. Louis Members are given priority registration)\n NECA Member Outside St. Louis – $200\n Signatory Member – $400 \nREGISTRATIONS AS OF 1/20/2026 \n\n\n\n\n\n\n\nLonnie\nSomers\nADL Communications\n\n\nBrandon\nVatterott\nADL Communications\n\n\nNoah\nBindbeutel\nGuarantee Electrical Company\n\n\nChase\nVoorhees\nGuarantee Electrical Company\n\n\nChad\nBoeving\nJF Electric\n\n\nWestfall\nSabrina\nJ West\n\n\nBrittany\nStevens\nKaiser Electric\, Inc.\n\n\nCayla\nSinamon\nKaiser Electric\, Inc.\n\n\nJulie\nSmith\nKaiser Electric\, Inc.\n\n\nTony\nPerotti\nPrimary Systems\n\n\nMatt\nOcenas\nPrimary Systems\n\n\nWhitney\nMajor\nSchaeffer Electric\n\n\nJaime\nHalbrook\nSchaeffer Electric\n\n\nDelaney\nCraig\nSchaeffer Electric\n\n\nMelody\nOswald\nSchaeffer Electric\n\n\nCarolyn\nConboy\nSchaeffer Electric\n\n\nJohn\nBranson\nSchaeffer Electric\n\n\nJacob\nCraig\nSchaeffer Electric\n\n\nDave\nBradley\nSchaeffer Electric\n\n\nJason\nSchepis\nTristar Electric\n\n\nWalter\nSickels\nVision\n\n\n\n\n                \n                        \n                            RSVP Now - Cash Flow Mgmt and the Project Team Training\n                             \n							"*" indicates required fields \n                        \n                        EmailThis field is for validation purposes and should be left unchanged.Name:*\n                            \n                            \n                                                    \n                                                    First\n                                                \n                            \n                            \n                                                    \n                                                    Last\n                                                \n                            \n                        Company:*Attendee Email:*\n                            \n                        Phone*This field is hidden when viewing the formAttendee Phone Number*I will bring a charged laptop to the training session*\n			\n					\n					Yes\n			Questions or Comments:\n                            \n                        Boxed Lunch Options*\n			\n					\n					Sandwich\n			\n			\n					\n					Salad\n			\n			\n					\n					None\n			Dietary Restrictions or preferences:\n                            \n                        $0 Registration Fee for St. Louis Chapter NECA | "No shows" will be invoiced $25 each.St. Louis NECA Member - FREE (St. Louis Members are given priority registration) | NECA Member Outside St. Louis - $200 | Signatory Member - $400\n\n          \n            \n            \n            \n            \n            \n            \n            \n            \n            \n            \n            \n            \n            \n        \n                        \n                        \n\n  \n  \n 
URL:https://stlneca.org/event/cash-flow-mgmt-and-the-project-team/
LOCATION:Sunset Event Space by Twisted Tree (Holiday Inn – Route 66)\, 10709 Watson Rd\, St. Louis\, MO\, 63127\, United States
ORGANIZER;CN="Karen O'Fallon":MAILTO:karen@stlneca.org
END:VEVENT
BEGIN:VEVENT
DTSTART;TZID=America/Chicago:20260219T083000
DTEND;TZID=America/Chicago:20260219T163000
DTSTAMP:20260423T130049
CREATED:20260107T164942Z
LAST-MODIFIED:20260204T001135Z
UID:2449-1771489800-1771518600@stlneca.org
SUMMARY:Leading with Success - Laurie Calzada
DESCRIPTION:REGISTRATION AT BOTTOM OF PAGE –>  \nThe Management Development Committee presents a six-part course “Leading with Success” starting on Thursday\, Feb. 19\, 2026\, that will be conducted from 8:30 a.m.- 4:30 p.m.  Snacks and lunch will be provided.  Following are course details: \nDates and Times\n6 Thursdays (8:30 am – 4:30 pm) \n\n2/19\n3/5\n4/2\n4/16\n4/30\n5/14\n\nVenue\nBrentwood Community Center\n2505 South Brentwood Blvd\nBrentwood\, MO 63144 \nModules\nThe Leading with Success workshop covers the following modules: \n\nModule 1: Using Situational Leadership to Lead the Team\nModule 2: Communication and Beyond\nModule 3: Coaching for High Performance\nModule 4: Conducting Meaningful Performance Reviews\nModule 5: Using Behavioral Interviewing to Hire High Performers\nModule 6: Delegation and Empowerment\n\nGoals of the Leading With Success Program \n\nBuild leadership teams through working together through all the aspects that make a strong team.\nStrengthen individual leadership skills through engaging and thought-provoking presentations\, exercises\, and\ninteractions.\nProvide long-lasting strategies and easy-to-use tools that have been developed from decades of experience\nworking with businesses in North America and Europe.\n\nWho from your company should attend?  \nGiven the goals of the Leading with Success program\, the ideal attendees from your company would include individuals who are in leadership roles or have potential for leadership growth. These individuals will benefit most from the program’s emphasis on teambuilding\, skill development\, and practical tools. Consider inviting: \n\nCurrent Leaders\n\nDepartment Heads and Supervisors: To enhance their ability to lead teams effectively and foster a collaborative work environment.\nExecutive Team Members: To ensure alignment in leadership strategies across the organization.\n\n\nEmerging Leaders\n\nHigh-Potential Employees: Those identified as future leaders who could benefit from structured leadership development.\n\n\nHuman Resources Team\n\nHR personnel involved in coaching\, hiring\, and performance management\, as they can apply the strategies and tools directly to workforce development.\n\n\nCross-Functional Representatives\n\nEmployees from different departments to encourage collaboration and the sharing of diverse perspectives during the sessions.\n\n\n\nConsiderations\nEnsure attendees are open to applying new strategies and have a role where the tools and insights from this workshop can be practically implemented. \n\nWorkshop Course: $1\,500 per attendee (NECA is subsidizing $1\,000 and Member Company is only responsible for remaining $500 fee per attendee).  Your company will be invoiced $500 per participant after completion of the workshop. Email karen@stlneca.org to utilize your Member Incentive Reimbursement after the course is completed.\nCapacity is limited and will be filled on a first come first served basis.\nRegistration closes Thursday Feb 5th.\nAttendees must attend the first day of class to remain enrolled in this course. Member Company will be charged remaining $1\,000 if attendee is removed from course.\nAttendees must attend 5 out of 6 classes to receive subsidizing from NECA. If more than 1 class is missed\, the Member Company will be charged the remaining $1\,000.\n\nFacilitator\nLaurie Calzada with Sharp Approach\nLaurie Calzada is an entrepreneur\, author\, speaker\, and media host with more than 30 years of experience. With an entrepreneurial spirit\, she has successfully founded or co-founded eight different companies over the past 30 years\, both in the US and Europe. She remains a board member of numerous corporations and non-profit organizations. She has hosted a monthly TV Talk Show and has written\, trained\, and presented on many key topics.  \nHer focus is to motivate and inspire those who have a desire to excel\, and she is a believer that you and your team can accomplish anything with enough ambition and determination. Her career has allowed her to consult\, train\, and present for hundreds of Fortune 1\,000 organizations. Her message is about understanding\, accepting\, encouraging\, and empowering people…personally and professionally…with the goal of helping others achieve high levels of success in business and in life. \nREGISTRATION AS OF 2/3/26 \n\n\n\n\n\n\nCompany:\nFirst and Last Name\n\n\nADL COMMUNICATIONS\, LLC\nBrandon Vatterott\n\n\nArchKey Sachs Electric\nBrandon Falls\n\n\nArchKey Sachs Electric\nJason Brown\n\n\nArchKey Sachs Electric\nMatt Riley\n\n\nArchKey Sachs Electric\nDon Peters\n\n\nJ Bathe Electric\nDan Mayberry\n\n\nKaiser Electric\, Inc.\nRob Sherman\n\n\nKaiser Electric\, Inc.\nChuck Wrigley\n\n\nKaiser Electric\, Inc.\nKatie Folk\n\n\nSchaeffer Electric\nMatt Ward\n\n\nSchaeffer Electric\nAndrew Michael\n\n\n\n\n                \n                        \n                            RSVP Now - Leading with Success - 6 Day Course\n                             \n							"*" indicates required fields \n                        \n                        EmailThis field is for validation purposes and should be left unchanged.First and Last Name*Company:*Attendee Job Title:Attendee Email:*\n                            \n                        Phone*This field is hidden when viewing the formAttendee Phone NumberDietary Restrictions or preferences (skip if none)Contractor Business Address:*    \n                    \n                         \n                                        \n                                        Street Address\n                                    \n                                        \n                                        Address Line 2\n                                    \n                                    \n                                    City\n                                 \n                                        AlabamaAlaskaAmerican SamoaArizonaArkansasCaliforniaColoradoConnecticutDelawareDistrict of ColumbiaFloridaGeorgiaGuamHawaiiIdahoIllinoisIndianaIowaKansasKentuckyLouisianaMaineMarylandMassachusettsMichiganMinnesotaMississippiMissouriMontanaNebraskaNevadaNew HampshireNew JerseyNew MexicoNew YorkNorth CarolinaNorth DakotaNorthern Mariana IslandsOhioOklahomaOregonPennsylvaniaPuerto RicoRhode IslandSouth CarolinaSouth DakotaTennesseeTexasUtahU.S. Virgin IslandsVermontVirginiaWashingtonWest VirginiaWisconsinWyomingArmed Forces AmericasArmed Forces EuropeArmed Forces Pacific\n                                        State\n                                      \n                                    \n                                    ZIP Code\n                                \n                    \n                $500 Registration Fee for St. Louis Chapter NECA | Contractors will be invoiced $1\,500 for each no show.NECA Members outside the St. Louis Chapter - $1\,700 per attendee | \n\nSignatory Contractors - $2\,500 per attendee \nComments or Questions
URL:https://stlneca.org/event/leading-with-success-laurie-calzada/
LOCATION:Brentwood Community Center\, 2505 South Brentwood Blvd\, Brentwood\, MO\, 63144\, United States
ORGANIZER;CN="Karen O'Fallon":MAILTO:karen@stlneca.org
END:VEVENT
BEGIN:VEVENT
DTSTART;TZID=America/Chicago:20260225T170000
DTEND;TZID=America/Chicago:20260225T190000
DTSTAMP:20260423T130049
CREATED:20260210T172207Z
LAST-MODIFIED:20260210T172207Z
UID:2565-1772038800-1772046000@stlneca.org
SUMMARY:Central Missouri Division Membership Meeting 2/25
DESCRIPTION:RSVP Now - Central Missouri Division Membership Meeting 2/25\n                             \n							"*" indicates required fields \n                        \n                        FacebookThis field is for validation purposes and should be left unchanged.Your Company:*Your Name:*Your Email:*\n                            \n                        Will you attend?*\n			\n					\n					Yes\n			\n			\n					\n					No\n			Would you like to register additional team members?*\n			\n					\n					Yes\n			\n			\n					\n					No\n			Guest 1 Company:Guest 1 Name:Guest 1 Email:\n                            \n                        Guest 2 Company:Guest 2 Name:Guest 2 Email:
URL:https://stlneca.org/event/central-missouri-division-membership-meeting-2-25/
LOCATION:Meadow Lakes Country Club\, 2600 Meadow Lake Drive\, New Bloomfield\, MO\, 65063\, United States
ORGANIZER;CN="Karen O'Fallon":MAILTO:karen@stlneca.org
END:VEVENT
END:VCALENDAR