BEGIN:VCALENDAR
VERSION:2.0
PRODID:-//St. Louis Chapter of the National Electrical Contractors Association - ECPv6.15.20//NONSGML v1.0//EN
CALSCALE:GREGORIAN
METHOD:PUBLISH
X-ORIGINAL-URL:https://stlneca.org
X-WR-CALDESC:Events for St. Louis Chapter of the National Electrical Contractors Association
REFRESH-INTERVAL;VALUE=DURATION:PT1H
X-Robots-Tag:noindex
X-PUBLISHED-TTL:PT1H
BEGIN:VTIMEZONE
TZID:America/Chicago
BEGIN:DAYLIGHT
TZOFFSETFROM:-0600
TZOFFSETTO:-0500
TZNAME:CDT
DTSTART:20250309T080000
END:DAYLIGHT
BEGIN:STANDARD
TZOFFSETFROM:-0500
TZOFFSETTO:-0600
TZNAME:CST
DTSTART:20251102T070000
END:STANDARD
BEGIN:DAYLIGHT
TZOFFSETFROM:-0600
TZOFFSETTO:-0500
TZNAME:CDT
DTSTART:20260308T080000
END:DAYLIGHT
BEGIN:STANDARD
TZOFFSETFROM:-0500
TZOFFSETTO:-0600
TZNAME:CST
DTSTART:20261101T070000
END:STANDARD
BEGIN:DAYLIGHT
TZOFFSETFROM:-0600
TZOFFSETTO:-0500
TZNAME:CDT
DTSTART:20270314T080000
END:DAYLIGHT
BEGIN:STANDARD
TZOFFSETFROM:-0500
TZOFFSETTO:-0600
TZNAME:CST
DTSTART:20271107T070000
END:STANDARD
END:VTIMEZONE
BEGIN:VEVENT
DTSTART;TZID=America/Chicago:20260303T163000
DTEND;TZID=America/Chicago:20260303T193000
DTSTAMP:20260423T112819
CREATED:20251208T224009Z
LAST-MODIFIED:20260303T152519Z
UID:2408-1772555400-1772566200@stlneca.org
SUMMARY:Membership Meeting: ELECTRI International - Market Recovery & Mega Projects l Sunset Events Space by Twisted Tree
DESCRIPTION:NEW! Power Hour Roundtable 3-4pm | Featuring Josh Bone & Dr. Anthony PerrenoudJoin us for an informal\, open-discussion session held one hour before our Membership Meeting. Each roundtable features a timely\, relevant topic impacting electrical contractors today. This is not a presentation – it’s a conversation facilitated by Josh and Anthony and we will open the floor for honest discussion\, shared insight\, and questions from the group. \nOpen bar\, open dialogue\, and the opportunity to connect with peers\, exchange perspectives\, and learn from one another in a relaxed setting. All members are welcome. \nMembership Meeting 4:30pm | Featuring Josh Bone and Dr. Anthony Perrenoud \nMegaprojects Impact on Labor Markets – ELECTRI International \nATTENDEES AS OF 3/3/26 \n\n\n\n\n\n\n\n\nCompany\nName:\nPower Hour\nMeeting\n\n\nADL Communications\nBrandon Vatterott\nYes\nYes\n\n\nADL Communications\nLonnie D Somers\nYes\nYes\n\n\nAEDI\nChad Harris\nYes\nYes\n\n\nArchKey / Sachs Electric\nJesse Thurber\nYes\nYes\n\n\nArchKey / Sachs Electric\nJohn Lembeck\nYes\nYes\n\n\nArchKey / Sachs Electric\nJanice Maitland\nYes\nYes\n\n\nArchKey / Sachs Electric\nJoe Young\nYes\nYes\n\n\nArchKey / Sachs Electric\nTim Culleton\nNo\nYes\n\n\nArchKey / Sachs Electric\nKristen Law\nYes\nYes\n\n\nArchKey / Sachs Electric\nJoe Barnard\nYes\nYes\n\n\nArchKey / Sachs Electric\nJon Brown\nYes\nYes\n\n\nAuthorized Electric\nTom Broderick\nYes\nYes\n\n\nBell Electrical Contractors\nJerry Dorhauer\, Sr.\nYes\nYes\n\n\nBoise State\nAnthony Perrenoud\nYes\nYes\n\n\nColtrane\nRick Coltrane\nYes\nYes\n\n\nColtrane\nMike Thiemann\nYes\nYes\n\n\nD & R Building Group\nBrandon Beck\nYes\nYes\n\n\nD & R Building Group\nLeonard\nYes\nYes\n\n\nElectri International\nJosh Bone\nYes\nYes\n\n\nGuarantee Electrical Company\nMike Seger\nYes\nYes\n\n\nGuarantee Electrical Company\nMark Riley\nYes\nYes\n\n\nGuarantee Electrical Company\nBecky Austermann\nYes\nYes\n\n\nGuarantee Electrical Company\nGrant Gralike\nYes\nYes\n\n\nGuarantee Electrical Company\nDave Gralike\nYes\nYes\n\n\nGuarantee Electrical Company\nEmily Martin\nYes\nYes\n\n\nGuarantee Electrical Company\nJacob Wieneke\nYes\nYes\n\n\nHanenkamp Electric\nMel Snyder\nYes\nYes\n\n\nJ West Electric\nRobert Gamblin\nYes\nYes\n\n\nJ West Electric\nCourtney Lumpkins\nYes\nYes\n\n\nJ West Electric\nSabrina Westfall\nYes\nYes\n\n\nJ. Bathe Electric\nMelanie Ilgenfritz\nNo\nYes\n\n\nJ. Bathe Electric\nBradley Bathe\nNo\nYes\n\n\nJ.F. Electric\nChad Boeving\nYes\nYes\n\n\nKaiser Electric\, Inc.\nKatie Folk\nYes\nYes\n\n\nKaiser Electric\, Inc.\nChuck Wrigley\nYes\nYes\n\n\nKaiser Electric\, Inc.\nDennis L Harter\nYes\nYes\n\n\nKaiser Electric\, Inc.\nBryan Truemper\nYes\nYes\n\n\nKay Bee Electric\nPaul J. Kohnen\nYes\nYes\n\n\nMizzou Student Chapter\nArmani Emery\nYes\nYes\n\n\nMizzou Student Chapter\nBenjamin Atterberry\nYes\nYes\n\n\nNational Safety Consulting\nDakota Riddle\nNo\nYes\n\n\nNetCom\, Inc.\nAndy Baker\nNo\nYes\n\n\nNetCom\, Inc.\nDaniel Baker\nNo\nYes\n\n\nNooter\nTom Miller\nNo\nYes\n\n\nNooter\nDave Reim\nNo\nYes\n\n\nPrimary Systems\, Inc\nFrank Henry\nYes\nYes\n\n\nPrimary Systems\, Inc.\nMatt Ocenas\nYes\nYes\n\n\nPrimary Systems\, Inc.\nTony Perotti\nYes\nYes\n\n\nPrimary Systems\, Inc.\nSteven Potts\nYes\nYes\n\n\nSchaeffer Electric\nKenny Bassler\nYes\nYes\n\n\nSchaeffer Electric\nBrian Wetteroff\nNo\nYes\n\n\nSchaeffer Electric\nJustin Kohlman\nYes\nNo\n\n\nSchaeffer Electric\nMichael Lucas\nYes\nYes\n\n\nSt. Louis Chapter NECA\nDeb Stephens\nYes\nYes\n\n\nSt. Louis Chapter NECA\nKyle McKenna\nYes\nYes\n\n\nSt. Louis Chapter NECA\nXavier Gassier\nYes\nYes\n\n\nSt. Louis Chapter NECA\nKaren O’Fallon\nYes\nYes\n\n\nTristar Electric\nJason Schepis\nYes\nYes\n\n\nVision Electric and Systems\nWalter Sickels\nYes\nYes\n\n\n\n \n\n\n                \n                        \n                            RSVP NOW - Membership Meeting 3/3/26\n                             \n                        \n                        InstagramThis field is for validation purposes and should be left unchanged.Company:*Name:*Email:*\n                            \n                        Can you attend the Power Hour Roundtable from 3-4pm with guest Josh Bone?*\n			\n				\n				Yes\n			\n			\n				\n				No\n			Can you attend the Membership Meeting at 4:30pm?*\n			\n				\n				Yes\n			\n			\n				\n				No\n			What would you like as your entree?*\n			\n				\n				Chicken Piccata\n			\n			\n				\n				Wood Fire Grilled Alaskan Halibut\n			\n			\n				\n				Center Cut Filet\n			Would you like to register other key team members?*\n			\n				\n				Yes\n			\n			\n				\n				No\n			The St. Louis Chapter encourages each member contractor to be represented at all our meetings.  If you are unable to make this event or would like to bring additional team members\, please add them here. Guest 1 Name:*Email:*\n                            \n                        What would Guest 1 like as an entree?*\n			\n				\n				Chicken Picatta\n			\n			\n				\n				Wood Fire Grilled Alaskan Halibut\n			\n			\n				\n				Center Cut Filet\n			Guest 2 Name:Email:\n                            \n                        What would Guest 2 like as an entree?\n			\n				\n				Chicken Picatta\n			\n			\n				\n				Wood Fire Grilled Alaskan Halibut\n			\n			\n				\n				Center Cut Filet\n			Guest 3 Name:Email:\n                            \n                        What would Guest 3 like as an entree?\n			\n				\n				Chicken Picatta\n			\n			\n				\n				Wood Fire Grilled Alaskan Halibut\n			\n			\n				\n				Center Cut Filet\n			Comments or Questions
URL:https://stlneca.org/event/membership-meeting-electri-international-market-recovery-mega-projects-l-sunset-events-space-by-twisted-tree/
LOCATION:Sunset Event Space by Twisted Tree (Holiday Inn – Route 66)\, 10709 Watson Rd\, St. Louis\, MO\, 63127\, United States
ORGANIZER;CN="Karen O'Fallon":MAILTO:karen@stlneca.org
END:VEVENT
BEGIN:VEVENT
DTSTART;VALUE=DATE:20260310
DTEND;VALUE=DATE:20260314
DTSTAMP:20260423T112819
CREATED:20250213T193057Z
LAST-MODIFIED:20251007T154134Z
UID:2050-1773100800-1773446399@stlneca.org
SUMMARY:Midwestern Region Conference | Hilton Waikoloa Village (Registration is NOW OPEN)
DESCRIPTION:REGISTRATION IS OPEN –> SIGN UP NOW
URL:https://stlneca.org/event/midwestern-region-conference-hilton-waikoloa-village-save-the-date/
LOCATION:Hilton Waikoloa Village\, Hi69-425 Waikōloa Beach Dr HI\, Waikoloa Village\, HI\, 96738\, United States
ORGANIZER;CN="Karen O'Fallon":MAILTO:karen@stlneca.org
END:VEVENT
BEGIN:VEVENT
DTSTART;TZID=America/Chicago:20260313T110000
DTEND;TZID=America/Chicago:20260313T130000
DTSTAMP:20260423T112819
CREATED:20260210T171642Z
LAST-MODIFIED:20260304T165241Z
UID:2563-1773399600-1773406800@stlneca.org
SUMMARY:Microsoft Copilot for the Construction Trades - Webinar
DESCRIPTION:Microsoft Copilot for the Construction Trades \nDate: March 13\, 2026 \nTime: 11:00 AM to 1:00 PM \nFormat: Zoom (link will be emailed the morning of Mar 13) \nSpots Available: 14 (you will be placed on a waitlist once capacity is reached) \nDescription: This webinar shows how to use Microsoft Copilot inside Outlook\, Excel\, Word\, and Teams. There is no fluff and no tech jargon. The focus is on real examples from the field and the office to help participants handle administrative work faster. \nWhat participants will learn \nOutlook: Draft emails\, handle RFIs\, and manage daily communication \nWord: Write reports\, safety notes\, and project documents quickly \nExcel: Use Copilot for job costing and tracking without complex formulas \nTeams: Generate automatic meeting notes and follow-ups \nWho should attend: Construction professionals who want to save hours of desk work using their existing Microsoft 365 plan. Participants will leave with clear\, practical steps they can use immediately. \n\n                \n                        \n                            RSVP Now - Microsoft Copilot for the Construction Trades 3/13\n                             \n							"*" indicates required fields \n                        \n                        EmailThis field is for validation purposes and should be left unchanged.Your Company:*Your Name:*Your Email:*\n                            \n                        Will you attend?*\n			\n					\n					Yes\n			\n			\n					\n					No\n			Would you like to register additional team members?*\n			\n					\n					Yes\n			\n			\n					\n					No\n			Guest 1 Company:Guest 1 Name:Guest 1 Email:\n                            \n                        Guest 2 Company:Guest 2 Name:Guest 2 Email:\n                            \n                        \n          \n            \n            \n            \n            \n            \n            \n            \n            \n            \n            \n            \n            \n            \n        \n                        \n                        \n\nBIO INFO: Carl Britton Jr. bridges the gap between hard hats and artificial intelligence with 20 years of construction experience and 15 years in technology. A former Class B General Contractor who grew up working residential concrete\, Carl turned a personal rebuilding effort after a tornado into a mission to help others work smarter. He has delivered hundreds of workshops and keynotes for organizations including NECA\, SMACNA\, and MCA\, earning a reputation for making complex technology accessible\, engaging\, and directly relevant to the trades. As a three-time published author and seasoned speaker\, Carl combines dirt-under-the-fingernails credibility with cutting-edge AI expertise\, showing contractors how to use AI tools to save time\, reduce costly errors\, and streamline communication. His hands-on\, practical approach consistently leaves participants confident\, equipped\, and eager to put AI to work in the field and the office. \nATTENDEES AS OF 2/20/26 \n(link will be emailed the morning of Mar 13) \n\n\n\n\n\n\nArckKey/Sachs\nJoe Young\n\n\nHanenkamp Electric\nMel Snyder\n\n\nKaiser Electric\nChuck Wrigley\n\n\nKaiser Electric\nBryan Truemper\n\n\nKay Bee Electric\nDan Onder\n\n\nKay Bee Electric\nTom Cowley\n\n\nMidstates Energy\nMark Wilson\n\n\nMidStates Energy\nNathan Naeger\n\n\nMidStates Energy\nMark Wilson\n\n\nPrimary Systems\nCarmella Dziedziniewicz\n\n\nSchaeffer Electric\nKenny Bassler\n\n\nSchaeffer Electric\nCarolyn Conboy\n\n\nTristar Electric\nJason Schepis\n\n\nTristar Electric\nTracy Lipari\n\n\n\nWAITLIST AS OF 3/4/26 \n(if a spot opens up\, a link will be emailed the morning of Mar 13. If not\, we will try to schedule another session ASAP) \n\n\n\n\n\n\nVision\nWalter Sickels\n\n\nKay Bee Electric\nLori Trokey\n\n\nMR Systems\nLindsay Burkemper\n\n\nMidStates Energy\nKyle Bruce\n\n\nPrimary Systems\nLo’ren Diaz\n\n\nPrimary Systems\nAmber Breen\n\n\nBRK ELECTRICAL CONTRACTORS\, LLC\nMarion Hayes\n\n\nADL COMMUNICATIONS\, LLC\nBrandon Vatterott
URL:https://stlneca.org/event/microsoft-copilot-for-the-construction-trades/
LOCATION:Webinar
ORGANIZER;CN="Karen O'Fallon":MAILTO:karen@stlneca.org
END:VEVENT
BEGIN:VEVENT
DTSTART;TZID=America/Chicago:20260319T080000
DTEND;TZID=America/Chicago:20260319T113000
DTSTAMP:20260423T112819
CREATED:20260220T034929Z
LAST-MODIFIED:20260318T150945Z
UID:2607-1773907200-1773919800@stlneca.org
SUMMARY:Change Order Management Webinar - Stephane McShane (Maxim)
DESCRIPTION:REGISTRATION AT THE BOTTOM OF THE PAGE \nWe’re excited to offer our Change Order Management Webinar in response to overwhelming member demand. This course sold out when we hosted it in person last year\, and we’ve continued to receive strong requests to bring it back. \nThis live webinar format makes it even more accessible for your team while delivering the same high-impact content. Participants will gain practical strategies to proactively manage change orders\, improve documentation\, protect margins\, and strengthen client communication throughout the project lifecycle. \nIf change orders are affecting your profitability or creating unnecessary friction\, this session is designed to equip your team with clear\, actionable tools to manage them with confidence. \nThe Teams link and resources will be sent prior to the start of the webinar. \nATTENDEES AS OF 3/18/26 \n\n\n\n\n\n\n\nJames\nPetty\nBRK ELECTRICAL CONTRACTORS\, LLC\n\n\nMarion\nHayes\nBRK ELECTRICAL CONTRACTORS\, LLC\n\n\nCaitlin\nBenedick\nGuarantee-Electrical-Co\n\n\nMel\nSnyder\nHanenkamp Electric Co.\n\n\nCayla\nSinamon\nKaiser Electric\n\n\nMatt\nOcenas\nPrimary Systems\n\n\nDelaney\nCraig\nSchaeffer Electric Company\n\n\nThomas\nLeara\nSchaeffer Electric Company\n\n\nKaren\nO’Fallon\nSTL NECA\n\n\nJason\nSchepis\nTristar Electric\n\n\nNick\nBabcock\nD & R\n\n\n\n \n \n\n                \n                        \n                            RSVP Now - Change Order Management Webinar\n                             \n							"*" indicates required fields \n                        \n                        CompanyThis field is for validation purposes and should be left unchanged.Name:*\n                            \n                            \n                                                    \n                                                    First\n                                                \n                            \n                            \n                                                    \n                                                    Last\n                                                \n                            \n                        Company:*Email:*\n                            \n                        Phone*$0 Registration Fee
URL:https://stlneca.org/event/change-order-management-webinar/
LOCATION:Webinar
ORGANIZER;CN="Karen O'Fallon":MAILTO:karen@stlneca.org
END:VEVENT
BEGIN:VEVENT
DTSTART;TZID=America/Chicago:20260325T103000
DTEND;TZID=America/Chicago:20260325T123000
DTSTAMP:20260423T112819
CREATED:20260227T164000Z
LAST-MODIFIED:20260322T001214Z
UID:2636-1774434600-1774441800@stlneca.org
SUMMARY:Central Missouri Division Membership Meeting 3/25
DESCRIPTION:[gravityform id=”108″ title=”true” \nThe Central MO Division has been moved to 10:30 a.m. (lunch meeting) on March 25.  This meeting will be limited to the members. \nThis meeting is to discuss our options on hiring electricians when the Labor Hall cannot fill calls
URL:https://stlneca.org/event/central-missouri-division-membership-meeting-3-25/
LOCATION:Meadow Lakes Country Club\, 2600 Meadow Lake Drive\, New Bloomfield\, MO\, 65063\, United States
ORGANIZER;CN="Karen O'Fallon":MAILTO:karen@stlneca.org
END:VEVENT
BEGIN:VEVENT
DTSTART;TZID=America/Chicago:20260326T110000
DTEND;TZID=America/Chicago:20260326T130000
DTSTAMP:20260423T112819
CREATED:20260210T192603Z
LAST-MODIFIED:20260324T203114Z
UID:2569-1774522800-1774530000@stlneca.org
SUMMARY:Take Control Of Your Materials - Lunch & Learn | Remarcable
DESCRIPTION:REGISTRATION AT THE BOTTOM OF THIS PAGE \n3/26/26 11am – 1pm \nNECA/IBEW Service Center \nBox Lunch included \nTake Control of your Materials: \nThis session examines how procurement workflows\, supplier coordination\, and material visibility directly impact growth capacity\, margin predictability\, field productivity\, and operational risk for electrical and mechanical contractors.  \nMany firms rely on disconnected tools and relationship-driven processes to manage purchasing such as email chains\, supplier portals\, spreadsheets\, and phone calls. While these methods may function at a smaller scale\, they often create margin variance\, productivity drag\, and hidden risk as the business grows.  \nThis session will cover:  \nWhere procurement breakdowns commonly occur and how they affect gross margin and schedule performance  \n\nHow to standardize purchasing workflows without weakening field judgment or craftsmanship \nWhat real-time pricing and material visibility change in project-level decision-making \nHow connected procurement reduces schedule risk and dependency on individual knowledge \nHow to increase output per person without increasing administrative headcount \nWhat modernization looks like when it supports\, rather than disrupts\, contractor culture \n\nAttendees will leave with a clearer framework for evaluating their current procurement processes and identifying practical opportunities\, such as Remarcable to increase operational leverage\, resilience\, and profitability.  \nOther Key Notes: \nThis Seminar is 100% Educational\, there is zero reference to Remarcable in a selling capacity. \nATTENDEES AS OF 3/24/26 \n\n\n\n\n\n\n\nName: (First)\nName: (Last)\nCompany:\n\n\nBrandon\nVatterott\nADL Communications\, LLC\n\n\nLonnie\nSomers\nADL Communications\, LLC\n\n\nDan\nAuer\nAkron Electric\n\n\nMark\nHanneken\nAkron Electric\n\n\nMatt\nHeilich\nAkron Electric\n\n\nNeil\nYount\nAkron Electric\n\n\nScott\nHanneken\nAkron Electric\n\n\nRobert\nGamblin\nJ. West Electric\n\n\nSabrina\nWestfall\nJ. West Electric\n\n\nMark\nTrapp\nJF Electric\n\n\nJosh\nFinley\nNooter Construction\n\n\nKim\nGrand\nSchaeffer Electric\n\n\nBrittany\nBradley\nSchaeffer Electric\n\n\nKim\nGrand\nSchaeffer Electric\n\n\nJason\nSchepis\nTristar Electric\n\n\n\n \nAndy Scott is a Senior Sales Executive at Remarcable who grew up in a family in the trades with a father who worked as an electrician. With eight years of construction supply chain experience\, he has worked with more than 500 contractors\, including many of the nation’s largest electrical contractors\, helping teams simplify procurement and manage materials more effectively. \n\n                \n                        \n                            RSVP Now - Take Control of Your Materials\n                             \n							"*" indicates required fields \n                        \n                        InstagramThis field is for validation purposes and should be left unchanged.Name:*\n                            \n                            \n                                                    \n                                                    First\n                                                \n                            \n                            \n                                                    \n                                                    Last\n                                                \n                            \n                        Company:*Job Title:*Attendee Email:*\n                            \n                        Phone*This field is hidden when viewing the formAttendee Phone Number*Questions or Comments:\n                            \n                        Boxed Lunch Options*\n			\n					\n					Sandwich\n			\n			\n					\n					Salad\n			\n			\n					\n					None\n			Dietary Restrictions or preferences:\n                            \n                        $0 Registration Fee for St. Louis Chapter NECA | "No shows" will be invoiced $25 each.St. Louis NECA Member - FREE (St. Louis Members are given priority registration) | NECA Member Outside St. Louis - $200 | Signatory Member - $400\n\n          \n            \n            \n            \n            \n            \n            \n            \n            \n            \n            \n            \n            \n            \n        \n                        \n                        \n\n  \n  \n 
URL:https://stlneca.org/event/take-control-of-your-materials-lunch-learn/
LOCATION:IBEW/NECA Service Center\, 5735 Elizabeth Ave\, St. Louis\, MO\, 63110\, United States
ORGANIZER;CN="Karen O'Fallon":MAILTO:karen@stlneca.org
END:VEVENT
END:VCALENDAR