BEGIN:VCALENDAR
VERSION:2.0
PRODID:-//St. Louis Chapter of the National Electrical Contractors Association - ECPv6.15.20//NONSGML v1.0//EN
CALSCALE:GREGORIAN
METHOD:PUBLISH
X-ORIGINAL-URL:https://stlneca.org
X-WR-CALDESC:Events for St. Louis Chapter of the National Electrical Contractors Association
REFRESH-INTERVAL;VALUE=DURATION:PT1H
X-Robots-Tag:noindex
X-PUBLISHED-TTL:PT1H
BEGIN:VTIMEZONE
TZID:America/Chicago
BEGIN:DAYLIGHT
TZOFFSETFROM:-0600
TZOFFSETTO:-0500
TZNAME:CDT
DTSTART:20250309T080000
END:DAYLIGHT
BEGIN:STANDARD
TZOFFSETFROM:-0500
TZOFFSETTO:-0600
TZNAME:CST
DTSTART:20251102T070000
END:STANDARD
BEGIN:DAYLIGHT
TZOFFSETFROM:-0600
TZOFFSETTO:-0500
TZNAME:CDT
DTSTART:20260308T080000
END:DAYLIGHT
BEGIN:STANDARD
TZOFFSETFROM:-0500
TZOFFSETTO:-0600
TZNAME:CST
DTSTART:20261101T070000
END:STANDARD
BEGIN:DAYLIGHT
TZOFFSETFROM:-0600
TZOFFSETTO:-0500
TZNAME:CDT
DTSTART:20270314T080000
END:DAYLIGHT
BEGIN:STANDARD
TZOFFSETFROM:-0500
TZOFFSETTO:-0600
TZNAME:CST
DTSTART:20271107T070000
END:STANDARD
END:VTIMEZONE
BEGIN:VEVENT
DTSTART;TZID=America/Chicago:20260716T153000
DTEND;TZID=America/Chicago:20260716T173000
DTSTAMP:20260423T142706
CREATED:20260415T155819Z
LAST-MODIFIED:20260415T161555Z
UID:2713-1784215800-1784223000@stlneca.org
SUMMARY:Deb's Retirement Happy Hour - CHEERS TO 30 YEARS!
DESCRIPTION:Join us as we celebrate the retirement of Deb Stephens after 30 years of keeping STL NECA running smoothly. \nLet’s be honest… Deb has been the brains behind the operation\, the keeper of all knowledge\, and the one who somehow always knew the answer before we even finished the question. We’re still trying to figure out how the office will function without her\, or at the very least\, where she keeps everything. \nAll jokes aside\, Deb’s impact over the past three decades is unmatched\, and we can’t let her slip away without a proper send-off. \nCome raise a glass\, share a story\, and help us give Deb the celebration she absolutely deserves. \nCLICK THE INVITATION TO RSVP NOW!
URL:https://stlneca.org/event/debs-retirement-happy-hour/
LOCATION:Sunset Event Space by Twisted Tree (Holiday Inn – Route 66)\, 10709 Watson Rd\, St. Louis\, MO\, 63127\, United States
ORGANIZER;CN="Karen O'Fallon":MAILTO:karen@stlneca.org
END:VEVENT
BEGIN:VEVENT
DTSTART;VALUE=DATE:20260720
DTEND;VALUE=DATE:20260723
DTSTAMP:20260423T142706
CREATED:20260116T220153Z
LAST-MODIFIED:20260116T220153Z
UID:2517-1784505600-1784764799@stlneca.org
SUMMARY:ELECTRI Summer Council Meeting - Dearborn\, MI
DESCRIPTION:MORE INFO AND REGISTER HERE
URL:https://stlneca.org/event/electri-summer-council-meeting-dearborn-mi/
LOCATION:MO
END:VEVENT
END:VCALENDAR